BEGIN:VCALENDAR
VERSION:2.0
PRODID:-//Gratis Uppsala - ECPv5.2.1//NONSGML v1.0//EN
CALSCALE:GREGORIAN
METHOD:PUBLISH
X-WR-CALNAME:Gratis Uppsala
X-ORIGINAL-URL:https://arkiv.gratisuppsala.se
X-WR-CALDESC:Händelser för Gratis Uppsala
BEGIN:VTIMEZONE
TZID:Europe/Stockholm
BEGIN:DAYLIGHT
TZOFFSETFROM:+0100
TZOFFSETTO:+0200
TZNAME:CEST
DTSTART:20170326T010000
END:DAYLIGHT
BEGIN:STANDARD
TZOFFSETFROM:+0200
TZOFFSETTO:+0100
TZNAME:CET
DTSTART:20171029T010000
END:STANDARD
END:VTIMEZONE
BEGIN:VEVENT
DTSTART;TZID=Europe/Stockholm:20170308T180000
DTEND;TZID=Europe/Stockholm:20170308T190000
DTSTAMP:20260420T063707
CREATED:20170302T103336Z
LAST-MODIFIED:20170302T103336Z
UID:12277-1488996000-1488999600@arkiv.gratisuppsala.se
SUMMARY:Besinningslös öden
DESCRIPTION:Sara Mannheimer\, Rasha Alqasem\, Sara Hallström och Ranwa Al-Amasy. Uppläsning och samtal med Kholod Saghir. Om kvinnligt skrivande och kvinnliga nätverk i severige och Mellanöstern. Uppläsningar på svenska och arabiska. \nFri entre. Boka biljett i Stadsbibliotekets reception. 018 727 17 00. \nHamta ut biljetten senas 30 min före programmets start. Samarr: Kulturföreningen Bagdad Cafe i samarbete med Studieförbundet Vuxenskolan. \nPlats: Mallas sal. \nDela evenemanget
URL:https://arkiv.gratisuppsala.se/event/besinningslos-oden/
LOCATION:Stadsbiblioteket\, Svartbäcksgatan 17\, Uppsala\, 75320\, Sverige
CATEGORIES:Föreläsning och Kurs,Kunskap och Lärande,Litteratur och Poesi
ATTACH;FMTTYPE=image/jpeg:https://arkiv.gratisuppsala.se/wp-content/uploads/2017/03/skriv.jpg
GEO:59.8606206;17.6353278
X-APPLE-STRUCTURED-LOCATION;VALUE=URI;X-ADDRESS=Stadsbiblioteket Svartbäcksgatan 17 Uppsala 75320 Sverige;X-APPLE-RADIUS=500;X-TITLE=Svartbäcksgatan 17:geo:17.6353278,59.8606206
END:VEVENT
END:VCALENDAR