BEGIN:VCALENDAR
VERSION:2.0
PRODID:-//Gratis Uppsala - ECPv5.2.1//NONSGML v1.0//EN
CALSCALE:GREGORIAN
METHOD:PUBLISH
X-WR-CALNAME:Gratis Uppsala
X-ORIGINAL-URL:https://arkiv.gratisuppsala.se
X-WR-CALDESC:Händelser för Gratis Uppsala
BEGIN:VTIMEZONE
TZID:Europe/Stockholm
BEGIN:DAYLIGHT
TZOFFSETFROM:+0100
TZOFFSETTO:+0200
TZNAME:CEST
DTSTART:20170326T010000
END:DAYLIGHT
BEGIN:STANDARD
TZOFFSETFROM:+0200
TZOFFSETTO:+0100
TZNAME:CET
DTSTART:20171029T010000
END:STANDARD
END:VTIMEZONE
BEGIN:VEVENT
DTSTART;TZID=Europe/Stockholm:20170703T110000
DTEND;TZID=Europe/Stockholm:20170703T163000
DTSTAMP:20260420T021807
CREATED:20170629T092204Z
LAST-MODIFIED:20170629T092204Z
UID:15109-1499079600-1499099400@arkiv.gratisuppsala.se
SUMMARY:Sommar i Forsmark
DESCRIPTION:Besök Forsmark i sommar\n\n\nForsmarks Kärnkraftverk bjuder på en upplevelse för hela familjen i sommar\, med bland annat experimentverkstad för barnen\, bruksmuseum och guidade bussturer där du får lära dig mer om säkerheten runt kärnkraftverket. \n\nTa chansen att uppleva elproduktion på nära håll i Forsmark. Det kostar ingenting att besöka kärnkraftverket. Dessutom har du möjligheten att få en massa kunskap om kärnkraft och energi med dig hem!\n\nForsmark är Sveriges yngsta kärnkraftsanläggning. Samtliga reaktorer togs i drift på 1980-talet. Forsmark har tre kokvattenreaktorer som tillsammans producerar Forsmarks 20-25 TWh årligen\, vilket motsvarar en dryg sjättedel av Sveriges totala elproduktion. Till kärnkraftverket kan du inte åka privat.\n\nFler attraktioner att besöka på plats: \n\nEngelska Parken: Den engelska parken är en landskapsträdgård från 1780-talet i romantisk stil fylld med vattenspeglar\, vilda blommor och skulpturer. Här passar det ypperligt att slå sig ner för att njuta av naturen och medhavd matsäck efter en dag fylld av aktiviteter i Forsmarks bruk. Hämta en karta över parken i turistinformationen.\nBruksmuseum: Forsmarks bruksmuseum\, som tidigare var ett bruksmagasin\, är med sina tre våningar en pärla fylld med bruksföremål och historiska utställningar. Här kan du bland annat se det så kallade uttaget\, där bruksborna hämtade en del av sin lön i form av matvaror. Museet är inte handikappanpassat\nHerrgården: Den ”nya herrgården”\, byggd i tidig gustaviansk stil\, stod färdig år 1774 och inrymmer en rik historia. Under sommaren ges det guidade visningar måndagar och onsdagar då man går genom herrgårdens olika rum och tar del av historian medans du vilar ögonen på vacker konst\, välsnidade möbler och byster skulpterade av Sergel.\nKvarnen: Forsmarks kvarn togs i drift i början av 1800-talet och användes fram till 1976. I dag\, nästan 40 år senare\, är portarna åter öppna. Besök kvarnen och upplev den autentiska miljön som finns bevarad.\nKyrkan: Forsmarks kyrka uppfördes år 1800 av Samuel af Ugglas\, dåvarande ägare till Forsmarks bruk\, och var under många år en självklar samlingspunkt för bruksborna. Idag är kyrkans portar åter öppna under sommarverksamheten i Forsmarks bruk. Här finns sommarvärdar på plats som gärna svarar på dina frågor.\nForsmarks Handkraft: Här hittar du genuint hantverk av hög kvalitet tillverkat av lokala hantverkare. Bland annat trä\, smide\, keramik\, textilier\, smycken\, glaskonst\, kuddar\, väskor och mycket mer. Nytt för i år är produkter från Grävlings naturprodukter Gräsö\, det kommer bland annat att säljas salvor och ljus. Forsmarks handkraft ligger i den gamla järnboden\, intill Forsmarks Wärdshus. Betalning kan ske med både kontant och kort.\nForsmarks Wärdshus: Forsmarks Wärdshus är inrymt i det gamla mejeriet. Det är beläget mitt i bruket alldeles intill Bruksdammen som tidigare utgjorde en viktig kraftkälla för brukets järnhantering. Forsmarks Wärdshus erbjuder hemlagad mat\, efter traditionella recept\, av de bästa råvarorna. Sommaröppet dagligen juni–augusti. (Stängt midsommarhelgen). Lunch varje vardag samt brunch och grillkvällar under helgerna. Telefon: 0173-501 00.\nCafé: På caféet serveras det lättare luncher\, som pajer\, sallader och smörgåsar. Disken är även fylld med hembakat fikabröd som bullar\, kakor och bakelser.\nTuristinformation: Välkommen till Forsmarks bruks turistinformation. Här finns utställningar om Forsmarks kärnkraftverk och Slutförvaret för kortlivat radioaktivt avfall. Här hittar du också information om bruket och kraftverket. Turistinformationen är samlingspunkt för guidade turer.\n\n  \nGuidade bussturer måste bokas. \nFör mer info se: http://visitforsmark.se/sommar/ \nBild: google.se \n\n\n\n\n Dela evenemanget
URL:https://arkiv.gratisuppsala.se/event/besok-forsmark/2017-07-03/
LOCATION:Forsmarks Kärnkraftverk\, Samling Turistinformationen Forsmark bruk 20.\, Östhammar\, 742 94
CATEGORIES:Kunskap och Lärande,Museum,Prova-på,Teknik och Vetenskap,Utflykt / Picknick
ATTACH;FMTTYPE=image/jpeg:https://arkiv.gratisuppsala.se/wp-content/uploads/2017/06/Forsmark1.jpg
ORGANIZER;CN="SKB":MAILTO:info@skb.se
END:VEVENT
END:VCALENDAR