BEGIN:VCALENDAR
VERSION:2.0
PRODID:-//Gratis Uppsala - ECPv5.2.1//NONSGML v1.0//EN
CALSCALE:GREGORIAN
METHOD:PUBLISH
X-WR-CALNAME:Gratis Uppsala
X-ORIGINAL-URL:https://arkiv.gratisuppsala.se
X-WR-CALDESC:Händelser för Gratis Uppsala
BEGIN:VTIMEZONE
TZID:Europe/Stockholm
BEGIN:DAYLIGHT
TZOFFSETFROM:+0100
TZOFFSETTO:+0200
TZNAME:CEST
DTSTART:20170326T010000
END:DAYLIGHT
BEGIN:STANDARD
TZOFFSETFROM:+0200
TZOFFSETTO:+0100
TZNAME:CET
DTSTART:20171029T010000
END:STANDARD
END:VTIMEZONE
BEGIN:VEVENT
DTSTART;TZID=Europe/Stockholm:20170119T183000
DTEND;TZID=Europe/Stockholm:20170119T170000
DTSTAMP:20260421T064228
CREATED:20170116T094831Z
LAST-MODIFIED:20170116T094831Z
UID:10584-1484850600-1484845200@arkiv.gratisuppsala.se
SUMMARY:Bibeln och jag - samtalskväll med Tomas Sjödin
DESCRIPTION:En samtalskväll med temat Bibeln och jag\nTomas Sjödin är årets bibelpristagare 2016. Bibelsällskapet bjuder på en samtalskväll med pristagaren med temat Bibeln & jag. Dan-Erik Sahlberg är samtalsledare och Louise Bjurling bidrar med sånginslag. \nTomas Sjödin föddes 1959 i Kramfors och växte upp inom pingströrelsen och utbildade sig till pastor. Han har ofta medverkat i olika sammanhang som föreläsare\, inspiratör och förkunnare. Han har varit sommarpratare och vinterpratare i Sveriges Radio och medverkat i livsåskådningsprogram i TV. Från mitten av 1990-talet har Tomas Sjödin varit verksam som flitig skribent. Hans skrivande är ofta självbiografiskt och har en tonvikt på vardagen. Som en röd tråd genom de självbiografiska böckerna finns livet med\, och förlusten av de båda sönerna med fortskridande hjärnsjukdomar. I de senaste böckerna är kärlek\, tid och tro återkommande ämnen. Böckerna Det är mycket man inte måste och Det händer när du vilar har fått stort gensvar\, och i den senaste boken Den som hittar sin plats tar ingen annans funderar han över hur man vet att man hamnat rätt i livet. \n(Från Bibelsällskapets hemsida) \nDela evenemanget
URL:https://arkiv.gratisuppsala.se/event/bibeln-och-jag-samtalskvall-med-tomas-sjodin/
LOCATION:Pingstkyrkan\,  Sankt Persgatan 9\, Uppsala\, 753 20\, Sverige
CATEGORIES:Kropp och Själ,Samhälle
ORGANIZER;CN="Bibels%C3%A4llskapet":MAILTO:info@bibeln.se
GEO:59.8596868;17.6382286
X-APPLE-STRUCTURED-LOCATION;VALUE=URI;X-ADDRESS=Pingstkyrkan  Sankt Persgatan 9 Uppsala 753 20 Sverige;X-APPLE-RADIUS=500;X-TITLE=Sankt Persgatan 9:geo:17.6382286,59.8596868
END:VEVENT
END:VCALENDAR