BEGIN:VCALENDAR
VERSION:2.0
PRODID:-//Gratis Uppsala - ECPv5.2.1//NONSGML v1.0//EN
CALSCALE:GREGORIAN
METHOD:PUBLISH
X-WR-CALNAME:Gratis Uppsala
X-ORIGINAL-URL:https://arkiv.gratisuppsala.se
X-WR-CALDESC:Händelser för Gratis Uppsala
BEGIN:VTIMEZONE
TZID:Europe/Stockholm
BEGIN:DAYLIGHT
TZOFFSETFROM:+0100
TZOFFSETTO:+0200
TZNAME:CEST
DTSTART:20150329T010000
END:DAYLIGHT
BEGIN:STANDARD
TZOFFSETFROM:+0200
TZOFFSETTO:+0100
TZNAME:CET
DTSTART:20151025T010000
END:STANDARD
END:VTIMEZONE
BEGIN:VEVENT
DTSTART;TZID=Europe/Stockholm:20151106T100000
DTEND;TZID=Europe/Stockholm:20151106T160000
DTSTAMP:20260419T213809
CREATED:20151102T113301Z
LAST-MODIFIED:20151104T164800Z
UID:4421-1446804000-1446825600@arkiv.gratisuppsala.se
SUMMARY:Bildjakter i domkyrkan
DESCRIPTION:Bildjakter i domkyrkan är kartor med instruktioner som du antingen kan ladda ned och skriva ut i förväg för att ta med dig eller hämta Katedralbutiken i kyrkan. \nLadda ned kartorna till bildjakterna här: Figurer och filurer och Vad finns i en kyrka. \nBildjakterna i domkyrkan är gratis. \n  \nBild: wikipedia.org \nDela evenemanget
URL:https://arkiv.gratisuppsala.se/event/bildjakter-i-domkyrkan/
LOCATION:Uppsala domkyrka\, Domkyrkoplan 5\, Uppsala\, 75310\, Sverige
CATEGORIES:Konst, Fotografi och Design,Samhälle
ATTACH;FMTTYPE=image/jpeg:https://arkiv.gratisuppsala.se/wp-content/uploads/2015/11/kyrkfönster.jpg
GEO:59.8584471;17.6332992
X-APPLE-STRUCTURED-LOCATION;VALUE=URI;X-ADDRESS=Uppsala domkyrka Domkyrkoplan 5 Uppsala 75310 Sverige;X-APPLE-RADIUS=500;X-TITLE=Domkyrkoplan 5:geo:17.6332992,59.8584471
END:VEVENT
END:VCALENDAR