BEGIN:VCALENDAR
VERSION:2.0
PRODID:-//Gratis Uppsala - ECPv5.2.1//NONSGML v1.0//EN
CALSCALE:GREGORIAN
METHOD:PUBLISH
X-WR-CALNAME:Gratis Uppsala
X-ORIGINAL-URL:https://arkiv.gratisuppsala.se
X-WR-CALDESC:Händelser för Gratis Uppsala
BEGIN:VTIMEZONE
TZID:Europe/Stockholm
BEGIN:DAYLIGHT
TZOFFSETFROM:+0100
TZOFFSETTO:+0200
TZNAME:CEST
DTSTART:20170326T010000
END:DAYLIGHT
BEGIN:STANDARD
TZOFFSETFROM:+0200
TZOFFSETTO:+0100
TZNAME:CET
DTSTART:20171029T010000
END:STANDARD
END:VTIMEZONE
BEGIN:VEVENT
DTSTART;TZID=Europe/Stockholm:20170901T130000
DTEND;TZID=Europe/Stockholm:20170901T170000
DTSTAMP:20260423T181020
CREATED:20170913T104818Z
LAST-MODIFIED:20170921T074507Z
UID:18105-1504270800-1504285200@arkiv.gratisuppsala.se
SUMMARY:Bill Viola\, Visitation Reformation\, en utställning på Uppsala Konstmuseum
DESCRIPTION:Bill Viola\, Visitation Reformation\nEn utställning på Uppsala Konstmuseum\nNär: 1 september till 5 november\nVar: Uppsala Konstmuseum \nVisning av utställningen sker: \nTorsdag 28/9 klockan 18.00-18.45\nLördag 14/10 klockan 13.00–13.45\nSöndag 5/11 klockan 13.00–13.45 \n\nBill Viola är internationellt uppmärksammad som pionjär inom videokonsten och för sina laddade videoinstallationer. I videoverket Observance från 2002 panoreras ansikten med starka uttryck i en avskalad ritual. \nOm Bill Viola\nBill Viola föddes i New York 1951 och bor numera i Los Angeles. Han är en amerikansk videokonstnär och anses vara en av de ledande personerna i den generationen av konstnärer vars konstnärskap baseras på elektronik\, ljud och bildteknologi inom New Media. Bill Viola påbörjade 2004 en ny produktion av Richard Wagners opera Tristan och Isolde i samarbete med regissören Peter Sellars\, dirigenten Esa-Pekka Salonen och Kira Perov som exekutiv producent. Operan hade premiär 2005 på Opéra National de Paris och Bill Violas videoverk ställdes även ut 2006 på The Haunch of Venison Gallery och St Olave’s School i London under utställningsnamnet LOVE/DEATH. Hans konst kretsar främst kring människolivets centrala teman och erfarenheter – födelse\, död\, kärlek\, känslor och en form av humanistisk spiritualitet. \nLäs mer på Uppsala Konstmuseums hemsida här. \nPå Bill Violas egen hemsida kan du läsa mer om honom\, klicka här för att komma dit. \nKonstmuseets öppettider hittar du här. \nDen 21 september spelar musikern Joachim Nordwall sitt soloalbum “The Ideal Black” i samband med utställningen. För att läsa om eventet\, klicka här. \n  \nBild från i.vimeocdn.com \nDela evenemanget
URL:https://arkiv.gratisuppsala.se/event/bill-viola-en-utstallning/2017-09-01/
LOCATION:Uppsala konstmuseum\, Drottning Christinas väg 1E\, Uppsala\, 75237 \, Sverige
CATEGORIES:Konst, Fotografi och Design,Utställning
ATTACH;FMTTYPE=image/jpeg:https://arkiv.gratisuppsala.se/wp-content/uploads/2017/09/Bill-Viola-e1505309044242.jpg
GEO:59.8532935;17.6351313
X-APPLE-STRUCTURED-LOCATION;VALUE=URI;X-ADDRESS=Uppsala konstmuseum Drottning Christinas väg 1E Uppsala 75237  Sverige;X-APPLE-RADIUS=500;X-TITLE=Drottning Christinas väg 1E:geo:17.6351313,59.8532935
END:VEVENT
END:VCALENDAR