BEGIN:VCALENDAR
VERSION:2.0
PRODID:-//Gratis Uppsala - ECPv5.2.1//NONSGML v1.0//EN
CALSCALE:GREGORIAN
METHOD:PUBLISH
X-WR-CALNAME:Gratis Uppsala
X-ORIGINAL-URL:https://arkiv.gratisuppsala.se
X-WR-CALDESC:Händelser för Gratis Uppsala
BEGIN:VTIMEZONE
TZID:Europe/Stockholm
BEGIN:DAYLIGHT
TZOFFSETFROM:+0100
TZOFFSETTO:+0200
TZNAME:CEST
DTSTART:20180325T010000
END:DAYLIGHT
BEGIN:STANDARD
TZOFFSETFROM:+0200
TZOFFSETTO:+0100
TZNAME:CET
DTSTART:20181028T010000
END:STANDARD
END:VTIMEZONE
BEGIN:VEVENT
DTSTART;TZID=Europe/Stockholm:20180523T190000
DTEND;TZID=Europe/Stockholm:20180523T210000
DTSTAMP:20260420T220707
CREATED:20180517T093058Z
LAST-MODIFIED:20180517T093058Z
UID:25075-1527102000-1527109200@arkiv.gratisuppsala.se
SUMMARY:Bin\, honung och pollen
DESCRIPTION:  \nHjälper honung mot hosta? Gör pollen egentligen någon nytta? Fira Carl von Linnés födelsedag med föredrag av Apotekarsocieteten och med Linnéträdgårdens lokala biodlare! \n\nI detta samarrangemang mellan Uppsala linneanska trädgårdar och Apotekarsocieteten kommer bin\, honung och pollen stå i fokus. Kom och träffa biodlare och kanske smaka på honung. Under kvällen får du dig också ett föredrag till livs\, om hur biprodukter och pollen används i läkemedel och en möjlig förklaring till varför vissa pollenallergiker ibland inte heller tål äpplen och nötter! \n\nTid och plats\nOnsdag 23 maj\, klockan 18.00-20.00 \nLinnéträdgården \n\nFri entré! \n(Bild från pixabay.com.) \n\n Dela evenemanget
URL:https://arkiv.gratisuppsala.se/event/bin-honung-och-pollen/
LOCATION:Linnéträdgården\, Svartbäcksgatan 27\, Uppsala\, 753 32\, Sverige
CATEGORIES:Föreläsning och Kurs
ATTACH;FMTTYPE=image/jpeg:https://arkiv.gratisuppsala.se/wp-content/uploads/2018/05/honeycomb-3381071_640.jpg
ORGANIZER;CN="Uppsala%20linneanska%20tr%C3%A4dg%C3%A5rdar":MAILTO:bokning@botan.uu.se
GEO:59.8622181;17.6349969
X-APPLE-STRUCTURED-LOCATION;VALUE=URI;X-ADDRESS=Linnéträdgården Svartbäcksgatan 27 Uppsala 753 32 Sverige;X-APPLE-RADIUS=500;X-TITLE=Svartbäcksgatan 27:geo:17.6349969,59.8622181
END:VEVENT
END:VCALENDAR