BEGIN:VCALENDAR
VERSION:2.0
PRODID:-//Gratis Uppsala - ECPv5.2.1//NONSGML v1.0//EN
CALSCALE:GREGORIAN
METHOD:PUBLISH
X-WR-CALNAME:Gratis Uppsala
X-ORIGINAL-URL:https://arkiv.gratisuppsala.se
X-WR-CALDESC:Händelser för Gratis Uppsala
BEGIN:VTIMEZONE
TZID:Europe/Stockholm
BEGIN:DAYLIGHT
TZOFFSETFROM:+0100
TZOFFSETTO:+0200
TZNAME:CEST
DTSTART:20170326T010000
END:DAYLIGHT
BEGIN:STANDARD
TZOFFSETFROM:+0200
TZOFFSETTO:+0100
TZNAME:CET
DTSTART:20171029T010000
END:STANDARD
END:VTIMEZONE
BEGIN:VEVENT
DTSTART;TZID=Europe/Stockholm:20170522T160000
DTEND;TZID=Europe/Stockholm:20170522T170000
DTSTAMP:20260421T115359
CREATED:20170421T091608Z
LAST-MODIFIED:20170515T100504Z
UID:13403-1495468800-1495472400@arkiv.gratisuppsala.se
SUMMARY:Biologisk mångfald i tätorten
DESCRIPTION:Har du tänkt på hur många olika växter och djur som finns i din närhet i staden? \nFölj med på en lätt stadsvandring i Heby och lär dig mer om en del av de växter och djur som finns här. \nStadsvandringen tar ca en timme och är ca 3 km på mestadels asfalterade vägar i centrala Heby. \nPassar alla åldrar\, berättandet anpassas efter deltagarna. \nSamlingsplats: Kommunkontoret Heby. \nIngen anmälan krävs. \nBild från pixabay.com \nDela evenemanget
URL:https://arkiv.gratisuppsala.se/event/biologisk-mangfald-tatorten/
LOCATION:Kommunkontoret Heby\, Tingsgatan 11\, Uppsala\, 744 32\, Sverige
CATEGORIES:Vandring
ATTACH;FMTTYPE=image/jpeg:https://arkiv.gratisuppsala.se/wp-content/uploads/2017/04/plum-blossom-1219240_640.jpg
ORGANIZER;CN="Heby%20Kommun":MAILTO:information@heby.se
GEO:59.9418254;16.8585266
X-APPLE-STRUCTURED-LOCATION;VALUE=URI;X-ADDRESS=Kommunkontoret Heby Tingsgatan 11 Uppsala 744 32 Sverige;X-APPLE-RADIUS=500;X-TITLE=Tingsgatan 11:geo:16.8585266,59.9418254
END:VEVENT
END:VCALENDAR