BEGIN:VCALENDAR
VERSION:2.0
PRODID:-//Gratis Uppsala - ECPv5.2.1//NONSGML v1.0//EN
CALSCALE:GREGORIAN
METHOD:PUBLISH
X-WR-CALNAME:Gratis Uppsala
X-ORIGINAL-URL:https://arkiv.gratisuppsala.se
X-WR-CALDESC:Händelser för Gratis Uppsala
BEGIN:VTIMEZONE
TZID:Europe/Stockholm
BEGIN:DAYLIGHT
TZOFFSETFROM:+0100
TZOFFSETTO:+0200
TZNAME:CEST
DTSTART:20180325T010000
END:DAYLIGHT
BEGIN:STANDARD
TZOFFSETFROM:+0200
TZOFFSETTO:+0100
TZNAME:CET
DTSTART:20181028T010000
END:STANDARD
END:VTIMEZONE
BEGIN:VEVENT
DTSTART;TZID=Europe/Stockholm:20181017T153000
DTEND;TZID=Europe/Stockholm:20181017T170000
DTSTAMP:20260421T120314
CREATED:20181014T233604Z
LAST-MODIFIED:20181014T234022Z
UID:30599-1539790200-1539795600@arkiv.gratisuppsala.se
SUMMARY:Natur- och konstpedagogik med Biotopia + Barnens Å-hus = sant!
DESCRIPTION:Natur- och konstpedagogik med Biotopia + Barnens Å-hus = sant!\nTvå onsdagseftermiddagar i höst kan ni få natur- och konstpedagogik i ett färgrikt paket! \nDatum: Onsdag\, 17 oktober och 21 november\, 2018\nTid: 14.30-16.00\nPlats: Biotopia\nMed: naturpedagog Anna Lagerqvist och konstpedagog Elisabeth Bucht\n \n  \n\n\nOnsdag 17 oktober: “Vi trycker med parken”. Möte ute i Vasaparken där det samlas in naturmaterial innan gruppen går in på Biotopia och trycker egna mönster. \nOnsdag 21 november: “Vi blir rovdjur”. Med kartong och akrylfärg förvandlas medlemmarna i gruppen till kanske ett lo\, en björn\, en varg. \n  \n\n\nBesök gärna länkarna nedan (öppnas i nytt fönster/flik).\nBarnens Å-hus på Facebook | Fler event på Biotopia \nFoto: Jeremy Thomas via Unsplash \nDela evenemanget
URL:https://arkiv.gratisuppsala.se/event/biotopia-barnens-a-hus-sant-natur-konstpedagogik/2018-10-17/
LOCATION:Biotopia\, Vasagatan 4\, Uppsala\, 753 13\, Sverige
CATEGORIES:Familj
ATTACH;FMTTYPE=image/jpeg:https://arkiv.gratisuppsala.se/wp-content/uploads/2018/10/jeremy-thomas-79493-unsplash-e1539563332455.jpg
ORGANIZER;CN="Barnens%20%C3%85-hus":MAILTO:elisabeth.bucht@comhem.se
GEO:59.8599128;17.6227042
X-APPLE-STRUCTURED-LOCATION;VALUE=URI;X-ADDRESS=Biotopia Vasagatan 4 Uppsala 753 13 Sverige;X-APPLE-RADIUS=500;X-TITLE=Vasagatan 4:geo:17.6227042,59.8599128
END:VEVENT
END:VCALENDAR