BEGIN:VCALENDAR
VERSION:2.0
PRODID:-//Gratis Uppsala - ECPv5.2.1//NONSGML v1.0//EN
CALSCALE:GREGORIAN
METHOD:PUBLISH
X-WR-CALNAME:Gratis Uppsala
X-ORIGINAL-URL:https://arkiv.gratisuppsala.se
X-WR-CALDESC:Händelser för Gratis Uppsala
BEGIN:VTIMEZONE
TZID:Europe/Stockholm
BEGIN:DAYLIGHT
TZOFFSETFROM:+0100
TZOFFSETTO:+0200
TZNAME:CEST
DTSTART:20150329T010000
END:DAYLIGHT
BEGIN:STANDARD
TZOFFSETFROM:+0200
TZOFFSETTO:+0100
TZNAME:CET
DTSTART:20151025T010000
END:STANDARD
END:VTIMEZONE
BEGIN:VEVENT
DTSTART;TZID=Europe/Stockholm:20151128T120000
DTEND;TZID=Europe/Stockholm:20151128T150000
DTSTAMP:20260420T092123
CREATED:20150924T072833Z
LAST-MODIFIED:20151126T175442Z
UID:3913-1448712000-1448722800@arkiv.gratisuppsala.se
SUMMARY:Biotopia i Sävja kulturcentrum
DESCRIPTION:Familjeaktivitet i Sävja kulturcentrum \nBiotopia besöker Sävja kulturcentrum. \nKl 12-15 kan man får lära sig mer om naturvetenskap med Biotopias pedagoger. \nTema: trycka spår. \nDet är en famlijeaktivitet och barnen ska ha en vuxen med sig. \nDet är gratis! \n  \nDela evenemanget
URL:https://arkiv.gratisuppsala.se/event/biotopia-i-savja-kulturcentrum-2/
LOCATION:Sävja Kulturcentrum\, Västgötaresan \, Uppsala\, 757 54\, Sverige
ATTACH;FMTTYPE=image/jpeg:https://arkiv.gratisuppsala.se/wp-content/uploads/2015/09/spår.jpg
ORGANIZER;CN="Bibliotek%20Uppsala":MAILTO:kundtjanst@bibliotekuppsala.se
GEO:59.8085971;17.7022024
X-APPLE-STRUCTURED-LOCATION;VALUE=URI;X-ADDRESS=Sävja Kulturcentrum Västgötaresan  Uppsala 757 54 Sverige;X-APPLE-RADIUS=500;X-TITLE=Västgötaresan:geo:17.7022024,59.8085971
END:VEVENT
END:VCALENDAR