BEGIN:VCALENDAR
VERSION:2.0
PRODID:-//Gratis Uppsala - ECPv5.2.1//NONSGML v1.0//EN
CALSCALE:GREGORIAN
METHOD:PUBLISH
X-WR-CALNAME:Gratis Uppsala
X-ORIGINAL-URL:https://arkiv.gratisuppsala.se
X-WR-CALDESC:Händelser för Gratis Uppsala
BEGIN:VTIMEZONE
TZID:Europe/Stockholm
BEGIN:DAYLIGHT
TZOFFSETFROM:+0100
TZOFFSETTO:+0200
TZNAME:CEST
DTSTART:20150329T010000
END:DAYLIGHT
BEGIN:STANDARD
TZOFFSETFROM:+0200
TZOFFSETTO:+0100
TZNAME:CET
DTSTART:20151025T010000
END:STANDARD
END:VTIMEZONE
BEGIN:VEVENT
DTSTART;TZID=Europe/Stockholm:20151205T120000
DTEND;TZID=Europe/Stockholm:20151205T150000
DTSTAMP:20260420T202810
CREATED:20150924T073604Z
LAST-MODIFIED:20151118T135340Z
UID:3915-1449316800-1449327600@arkiv.gratisuppsala.se
SUMMARY:Biotopia i Sävja Kulturcentrum
DESCRIPTION:Familjeaktivitet med Biotopia i Sävja kulturcentrum med temat: Återbruksverkstad. \nKl 12-15 kan man får lära sig mer om naturvetenskap med Biotopias pedagoger. \nBarnen ska ha en vuxen med sig. Det är gratis! \n  \n  \n  \nDela evenemanget
URL:https://arkiv.gratisuppsala.se/event/biotopia-i-savja-kulturcentrum-3/
LOCATION:Sävja Kulturcentrum\, Västgötaresan \, Uppsala\, 757 54\, Sverige
ORGANIZER;CN="Bibliotek%20Uppsala":MAILTO:kundtjanst@bibliotekuppsala.se
GEO:59.8085971;17.7022024
X-APPLE-STRUCTURED-LOCATION;VALUE=URI;X-ADDRESS=Sävja Kulturcentrum Västgötaresan  Uppsala 757 54 Sverige;X-APPLE-RADIUS=500;X-TITLE=Västgötaresan:geo:17.7022024,59.8085971
END:VEVENT
END:VCALENDAR