BEGIN:VCALENDAR
VERSION:2.0
PRODID:-//Gratis Uppsala - ECPv5.2.1//NONSGML v1.0//EN
CALSCALE:GREGORIAN
METHOD:PUBLISH
X-WR-CALNAME:Gratis Uppsala
X-ORIGINAL-URL:https://arkiv.gratisuppsala.se
X-WR-CALDESC:Händelser för Gratis Uppsala
BEGIN:VTIMEZONE
TZID:Europe/Stockholm
BEGIN:DAYLIGHT
TZOFFSETFROM:+0100
TZOFFSETTO:+0200
TZNAME:CEST
DTSTART:20150329T010000
END:DAYLIGHT
BEGIN:STANDARD
TZOFFSETFROM:+0200
TZOFFSETTO:+0100
TZNAME:CET
DTSTART:20151025T010000
END:STANDARD
END:VTIMEZONE
BEGIN:VEVENT
DTSTART;TZID=Europe/Stockholm:20151202T173000
DTEND;TZID=Europe/Stockholm:20151202T173000
DTSTAMP:20260419T183838
CREATED:20151124T133305Z
LAST-MODIFIED:20151130T135407Z
UID:4878-1449077400-1449077400@arkiv.gratisuppsala.se
SUMMARY:Birgitta Dahl – före detta talman gästar Alumnsalongen
DESCRIPTION:ALUMNSALONGEN\n\nAlumnsalongen är en helt ny serie samtal inför publik med alumner som är intressanta för dagens studenter\, andra alumner och många andra. Konceptet går ifrån det traditionella föreläsningsformatet och har en öppnare atmosfär. Välkommen att delta i samtalet! Alumnsalongen är ett rum öppet för samtal och frågor. \nPlats: Carolina Rediviva. Tidsskriftsläsesalen\nFöreläsare: Birgitta Dahl – uppfinnare och hedersdoktor\nArrangör: Uppsala Studentkår i samarbete med Uppsala Universitets alumnkontor och Folkuniversitetet. \nBirgitta Dahl gästar Alumnsalongen – en svensk politiks grande dame. \nBirgitta Dahl har varit både energi-\, industri- och miljöminister samt talman\, och figurerat på höga politiska poster i fyra decennier. \nEller som Birgitta själv säger om sin politiska karriär “Folkstyret har följt mig som ett tema genom livet. Jag är uppvuxen i folkrörelsesverige och har i olika roller haft uppdrag inom folkstyret.” \nI sitt arbete har Birgitta även kommit tillbaka till sitt engagemang för jämställdhet mellan kvinnor och män\, och barns rättigheter. Senast som ordförande för Unicef i Sverige 2005-2011 och som styrelseordförande för Centrum för genusvetenskap i Uppsala. \nI ett samtal med journalisten och Ergos redaktör Sara Borsiin får vi möjlighet att höra Birgittas historia om hur hon kom dit hon är idag. \nKom och delta i samtalet! Alumnsalongen är ett rum öppet för samtal och frågor. \nHörslinga finns i lokalen. \nArrangemanget ges i samarbete med Uppsala Universitets alumnkontor och Folkuniversitetet. \n\n Dela evenemanget
URL:https://arkiv.gratisuppsala.se/event/birgitta-dahl-fore-detta-talman-gastar-alumnsalongen/
LOCATION:Carolina Rediviva\, Dag Hammarskjölds väg 1\, Uppsala\, 752 37\, Sverige
CATEGORIES:Föreläsning och Kurs
ATTACH;FMTTYPE=image/jpg:https://arkiv.gratisuppsala.se/wp-content/uploads/2015/11/uu-logga-1-e1448452802587.jpg
GEO:59.8551703;17.6315032
X-APPLE-STRUCTURED-LOCATION;VALUE=URI;X-ADDRESS=Carolina Rediviva Dag Hammarskjölds väg 1 Uppsala 752 37 Sverige;X-APPLE-RADIUS=500;X-TITLE=Dag Hammarskjölds väg 1:geo:17.6315032,59.8551703
END:VEVENT
END:VCALENDAR