BEGIN:VCALENDAR
VERSION:2.0
PRODID:-//Gratis Uppsala - ECPv5.2.1//NONSGML v1.0//EN
CALSCALE:GREGORIAN
METHOD:PUBLISH
X-WR-CALNAME:Gratis Uppsala
X-ORIGINAL-URL:https://arkiv.gratisuppsala.se
X-WR-CALDESC:Händelser för Gratis Uppsala
BEGIN:VTIMEZONE
TZID:Europe/Stockholm
BEGIN:DAYLIGHT
TZOFFSETFROM:+0100
TZOFFSETTO:+0200
TZNAME:CEST
DTSTART:20160327T010000
END:DAYLIGHT
BEGIN:STANDARD
TZOFFSETFROM:+0200
TZOFFSETTO:+0100
TZNAME:CET
DTSTART:20161030T010000
END:STANDARD
END:VTIMEZONE
BEGIN:VEVENT
DTSTART;TZID=Europe/Stockholm:20160626T130000
DTEND;TZID=Europe/Stockholm:20160626T160000
DTSTAMP:20260420T082020
CREATED:20160622T090332Z
LAST-MODIFIED:20160622T091334Z
UID:7589-1466946000-1466956800@arkiv.gratisuppsala.se
SUMMARY:Björklinge sockens museum har öppet med visning
DESCRIPTION:Visning av muséet och fotoarkivet\nKaffeservering \nDela evenemanget
URL:https://arkiv.gratisuppsala.se/event/bjorklinge-sockens-museum-har-oppet-med-visning/2016-06-26/
LOCATION:Björklinge sockens museum\, Nybyvägen 2\, Björklinge\, 743 63\, Sverige
CATEGORIES:Samhälle,Utställning
GEO:60.0258027;17.5496388
X-APPLE-STRUCTURED-LOCATION;VALUE=URI;X-ADDRESS=Björklinge sockens museum Nybyvägen 2 Björklinge 743 63 Sverige;X-APPLE-RADIUS=500;X-TITLE=Nybyvägen 2:geo:17.5496388,60.0258027
END:VEVENT
END:VCALENDAR