BEGIN:VCALENDAR
VERSION:2.0
PRODID:-//Gratis Uppsala - ECPv5.2.1//NONSGML v1.0//EN
CALSCALE:GREGORIAN
METHOD:PUBLISH
X-WR-CALNAME:Gratis Uppsala
X-ORIGINAL-URL:https://arkiv.gratisuppsala.se
X-WR-CALDESC:Händelser för Gratis Uppsala
BEGIN:VTIMEZONE
TZID:Europe/Stockholm
BEGIN:DAYLIGHT
TZOFFSETFROM:+0100
TZOFFSETTO:+0200
TZNAME:CEST
DTSTART:20170326T010000
END:DAYLIGHT
BEGIN:STANDARD
TZOFFSETFROM:+0200
TZOFFSETTO:+0100
TZNAME:CET
DTSTART:20171029T010000
END:STANDARD
END:VTIMEZONE
BEGIN:VEVENT
DTSTART;TZID=Europe/Stockholm:20170412T150000
DTEND;TZID=Europe/Stockholm:20170412T150000
DTSTAMP:20260419T172641
CREATED:20170327T132225Z
LAST-MODIFIED:20170410T104848Z
UID:12876-1492009200-1492009200@arkiv.gratisuppsala.se
SUMMARY:Bockarna Bruse
DESCRIPTION:Bockarna Bruse på Gränbybiblioteket\nDet var en gång tre bockar och alla hette de Bruse. Kom och få reda på hur det egentligen gick i sagan! \nDen 12 april kan du se en dockteaterföreställning med teatern Tummeliten. \nBesök Gränbybiblioteket klockan två. \nGratis biljetter finns att boka tidigast måndag den 3 april. \nFör barn 3-6 år. \n  \nBild: Bockarna Bruse (foto: Teater Tummeliten) \nDela evenemanget
URL:https://arkiv.gratisuppsala.se/event/bockarna-bruse/
LOCATION:Gränbybiblioteket\, Liljeforstorg 1\, Uppsala\, 754 29\, Sverige
CATEGORIES:Litteratur och Poesi,Påsklov,Teater och Bio
ATTACH;FMTTYPE=image/jpeg:https://arkiv.gratisuppsala.se/wp-content/uploads/2017/03/portletResources.jpg
ORGANIZER;CN="Bibliotek%20Uppsala":MAILTO:kundtjanst@bibliotekuppsala.se
GEO:59.8718525;17.6582693
X-APPLE-STRUCTURED-LOCATION;VALUE=URI;X-ADDRESS=Gränbybiblioteket Liljeforstorg 1 Uppsala 754 29 Sverige;X-APPLE-RADIUS=500;X-TITLE=Liljeforstorg 1:geo:17.6582693,59.8718525
END:VEVENT
END:VCALENDAR