BEGIN:VCALENDAR
VERSION:2.0
PRODID:-//Gratis Uppsala - ECPv5.2.1//NONSGML v1.0//EN
CALSCALE:GREGORIAN
METHOD:PUBLISH
X-WR-CALNAME:Gratis Uppsala
X-ORIGINAL-URL:https://arkiv.gratisuppsala.se
X-WR-CALDESC:Händelser för Gratis Uppsala
BEGIN:VTIMEZONE
TZID:Europe/Stockholm
BEGIN:DAYLIGHT
TZOFFSETFROM:+0100
TZOFFSETTO:+0200
TZNAME:CEST
DTSTART:20160327T010000
END:DAYLIGHT
BEGIN:STANDARD
TZOFFSETFROM:+0200
TZOFFSETTO:+0100
TZNAME:CET
DTSTART:20161030T010000
END:STANDARD
END:VTIMEZONE
BEGIN:VEVENT
DTSTART;TZID=Europe/Stockholm:20160421T170000
DTEND;TZID=Europe/Stockholm:20160418T180000
DTSTAMP:20260421T023639
CREATED:20160418T084035Z
LAST-MODIFIED:20160418T084035Z
UID:6767-1461258000-1461002400@arkiv.gratisuppsala.se
SUMMARY:Bokcafé inför Världsbokdagen
DESCRIPTION:Bokcafé inför Världsbokdagen i Temaverkstaden på Gottsundabiblioteket. \nBiblioteket bjuder på lätt fika och tipsar om böcker från hela världen. \nTorsdag 21 april Drop-in från kl 16. \nBild: pixabay.com. \nDela evenemanget
URL:https://arkiv.gratisuppsala.se/event/bokcafe-infor-varldsbokdagen/
LOCATION:Gottsundabiblioteket\, Valthornsvägen 11\, Uppsala\, 756 50 \, Sverige
ATTACH;FMTTYPE=image/jpeg:https://arkiv.gratisuppsala.se/wp-content/uploads/2016/04/books.jpg
ORGANIZER;CN="Bibliotek%20Uppsala":MAILTO:kundtjanst@bibliotekuppsala.se
GEO:59.8093409;17.6295555
X-APPLE-STRUCTURED-LOCATION;VALUE=URI;X-ADDRESS=Gottsundabiblioteket Valthornsvägen 11 Uppsala 756 50  Sverige;X-APPLE-RADIUS=500;X-TITLE=Valthornsvägen 11:geo:17.6295555,59.8093409
END:VEVENT
END:VCALENDAR