BEGIN:VCALENDAR
VERSION:2.0
PRODID:-//Gratis Uppsala - ECPv5.2.1//NONSGML v1.0//EN
CALSCALE:GREGORIAN
METHOD:PUBLISH
X-WR-CALNAME:Gratis Uppsala
X-ORIGINAL-URL:https://arkiv.gratisuppsala.se
X-WR-CALDESC:Händelser för Gratis Uppsala
BEGIN:VTIMEZONE
TZID:Europe/Stockholm
BEGIN:DAYLIGHT
TZOFFSETFROM:+0100
TZOFFSETTO:+0200
TZNAME:CEST
DTSTART:20180325T010000
END:DAYLIGHT
BEGIN:STANDARD
TZOFFSETFROM:+0200
TZOFFSETTO:+0100
TZNAME:CET
DTSTART:20181028T010000
END:STANDARD
END:VTIMEZONE
BEGIN:VEVENT
DTSTART;TZID=Europe/Stockholm:20180917T191500
DTEND;TZID=Europe/Stockholm:20180917T201500
DTSTAMP:20260421T120314
CREATED:20180916T123029Z
LAST-MODIFIED:20181029T104448Z
UID:29597-1537211700-1537215300@arkiv.gratisuppsala.se
SUMMARY:Feministinen lukupiiri - Feministisk bokcirkel på finska med Pirjo Hamilton
DESCRIPTION:Feministinen lukupiiri vetäjänä Pirjo Hamilton\n\nLukupiirin vetäjä on Pirjo Hamilton\, radio- ja kulttuuritoimittaja. \nKeskustelemme lukupiirissä naisnäkökulmasta kirjallisuudessa. Aihepiiri koskettaa nuoren naisen identiteetin etsimistä\, Suomen sisällissodan pitkiä varjoja\, monisäikeistä ystävyyssuhdetta ja vanhenevan naisen valintoja. \nLuemme seuraavat kirjat;\nRakkaudenhirviö\, Saara Turunen (17. syyskuuta)\nGraniittimies\, Sirpa Kähkönen (15. lokakuuta)\nLoistava ystäväni\, Elena Ferrante (12. marraskuuta)\nAurinkokissan vuosi\, Merete Mazzarella (3. joulukuuta)\nKirjat saatte etukäteen lainaksi kirjastosta. \n\nPäivämäärät: maanantaisin\, 17. syyskuuta\, 15. lokakuuta\, 12. marraskuuta\, 3. joulukuuta 2018\nAika: 18.15\nPaikka: Kaupunginkirjastossa\nIlmoittautumiset: helena.pennlovsmedberg@uppsala.se. Rajoitettu osallistujamäärä. \n  \n\nFeministisk bokcirkel på finska med Pirjo Hamilton\nPirjo Hamilton\, radio- och kulturreporter\, leder bokcirkeln. \nI denna bokcirkel diskuteras litteratur ifrån ett feministiskt perspektiv. Ämnen så som en ung kvinnas sökande efter sin identitet\, de långt sträckande skuggor från det finska inbördeskriget\, mångfasetterade vänskapsband och en åldrande kvinnas livsval. \nUnder hösten läses och diskuteras följande böcker;\nRakkaudenhirviö av Saara Turunen (17 september)\nGraniittimies av Sirpa Kähkönen (15 oktober)\nLoistava ystäväni av Elena Ferrante (12 november)\nAurinkokissan vuosi av Merete Mazzarella (3 december)\nBöckerna finns att låna i förhand på biblioteket. \n\nDatum: Måndagar\, 17 september\, 15 oktober\, 12 november och 3 december 2018\nTid: 18.15\nPlats: Uppsala Stadsbibliotek\nAnmälan: helena.pennlovsmedberg@uppsala.se. Begränsat antal platser. \n\n  \n\nBesök gärna länkarna nedan (externa länkar öppnas i nytt fönster/flik). \nUppsala Stadsbibliotek | Fler event för dig med mer än ett språk \nBild: Thought Catalog via Unsplash \nDela evenemanget
URL:https://arkiv.gratisuppsala.se/event/bokcirkel-finska-pirjo-hamilton/2018-09-17/
LOCATION:Uppsala Stadsbiblioteket\, Svartbäcksgatan 17\, Uppsala\, Uppsala\, 753 75 Uppsala\, Sverige
CATEGORIES:Flerspråkighet,Litteratur och Poesi,Ungdom,Vuxen
ATTACH;FMTTYPE=image/jpeg:https://arkiv.gratisuppsala.se/wp-content/uploads/2018/09/thought-catalog-470985-unsplash-e1537103344408.jpg
GEO:59.8606206;17.6353278
X-APPLE-STRUCTURED-LOCATION;VALUE=URI;X-ADDRESS=Uppsala Stadsbiblioteket Svartbäcksgatan 17 Uppsala Uppsala 753 75 Uppsala Sverige;X-APPLE-RADIUS=500;X-TITLE=Svartbäcksgatan 17:geo:17.6353278,59.8606206
END:VEVENT
END:VCALENDAR