BEGIN:VCALENDAR
VERSION:2.0
PRODID:-//Gratis Uppsala - ECPv5.2.1//NONSGML v1.0//EN
CALSCALE:GREGORIAN
METHOD:PUBLISH
X-WR-CALNAME:Gratis Uppsala
X-ORIGINAL-URL:https://arkiv.gratisuppsala.se
X-WR-CALDESC:Händelser för Gratis Uppsala
BEGIN:VTIMEZONE
TZID:Europe/Stockholm
BEGIN:DAYLIGHT
TZOFFSETFROM:+0100
TZOFFSETTO:+0200
TZNAME:CEST
DTSTART:20160327T010000
END:DAYLIGHT
BEGIN:STANDARD
TZOFFSETFROM:+0200
TZOFFSETTO:+0100
TZNAME:CET
DTSTART:20161030T010000
END:STANDARD
END:VTIMEZONE
BEGIN:VEVENT
DTSTART;TZID=Europe/Stockholm:20160828T180000
DTEND;TZID=Europe/Stockholm:20160828T190000
DTSTAMP:20260420T024522
CREATED:20160826T070629Z
LAST-MODIFIED:20160826T070629Z
UID:8188-1472407200-1472410800@arkiv.gratisuppsala.se
SUMMARY:Boksläpp: Franciskus av Assisi - sökare\, poet\, revolutionär
DESCRIPTION:Gunnar Granberg presenterar sin nya bok Franciskus av Assisi – sökare\, poet\, revolutionär.\nGamla Uppsala prästgård\, söndag 28 augusti kl 17.00.\nFörsamlingen bjuder på förtäring.\nVälkomna! \nDela evenemanget
URL:https://arkiv.gratisuppsala.se/event/bokslapp-franciskus-av-assisi-sokare-poet-revolutionar/
LOCATION:Gamla Uppsala kyrka\, Disavägen 8\, Uppsala\, 754 40\, Sverige
CATEGORIES:Religion
ATTACH;FMTTYPE=image/jpeg:https://arkiv.gratisuppsala.se/wp-content/uploads/2016/04/GamlaUppsalaKyrka.jpg
GEO:59.8995159;17.6314797
X-APPLE-STRUCTURED-LOCATION;VALUE=URI;X-ADDRESS=Gamla Uppsala kyrka Disavägen 8 Uppsala 754 40 Sverige;X-APPLE-RADIUS=500;X-TITLE=Disavägen 8:geo:17.6314797,59.8995159
END:VEVENT
END:VCALENDAR