BEGIN:VCALENDAR
VERSION:2.0
PRODID:-//Gratis Uppsala - ECPv5.2.1//NONSGML v1.0//EN
CALSCALE:GREGORIAN
METHOD:PUBLISH
X-WR-CALNAME:Gratis Uppsala
X-ORIGINAL-URL:https://arkiv.gratisuppsala.se
X-WR-CALDESC:Händelser för Gratis Uppsala
BEGIN:VTIMEZONE
TZID:Europe/Stockholm
BEGIN:DAYLIGHT
TZOFFSETFROM:+0100
TZOFFSETTO:+0200
TZNAME:CEST
DTSTART:20150329T010000
END:DAYLIGHT
BEGIN:STANDARD
TZOFFSETFROM:+0200
TZOFFSETTO:+0100
TZNAME:CET
DTSTART:20151025T010000
END:STANDARD
END:VTIMEZONE
BEGIN:VEVENT
DTSTART;TZID=Europe/Stockholm:20150925T150000
DTEND;TZID=Europe/Stockholm:20150925T190000
DTSTAMP:20260420T064335
CREATED:20150902T105622Z
LAST-MODIFIED:20150902T112038Z
UID:3545-1443193200-1443207600@arkiv.gratisuppsala.se
SUMMARY:Bondens egen marknad
DESCRIPTION:Foto: Elisabeth Sandberg \n  \nBondens egen marknad är inne på sitt 5:e år i Uppsala. På marknaden har du möjlighet att köpa lokalproducerad mat. \nSamtliga marknader äger rum framför nya Resecentrum (mot Kungsgatan) i Uppsala kl. 14.00-18.00 (OBS! nya tider!). \n21 augusti \n28 augusti \n4 september \n11 september \n18 september \n25 september \n2 oktober \n9 oktober \n16 oktober \n23 oktober \n30 oktober \nDela evenemanget
URL:https://arkiv.gratisuppsala.se/event/bondens-egen-marknad-3/
CATEGORIES:Marknad & Loppis
ATTACH;FMTTYPE=image/jpeg:https://arkiv.gratisuppsala.se/wp-content/uploads/2015/08/Bondens-egna-marknad-2015-e1444136163483.jpg
END:VEVENT
END:VCALENDAR