BEGIN:VCALENDAR
VERSION:2.0
PRODID:-//Gratis Uppsala - ECPv5.2.1//NONSGML v1.0//EN
CALSCALE:GREGORIAN
METHOD:PUBLISH
X-WR-CALNAME:Gratis Uppsala
X-ORIGINAL-URL:https://arkiv.gratisuppsala.se
X-WR-CALDESC:Händelser för Gratis Uppsala
BEGIN:VTIMEZONE
TZID:Europe/Stockholm
BEGIN:DAYLIGHT
TZOFFSETFROM:+0100
TZOFFSETTO:+0200
TZNAME:CEST
DTSTART:20150329T010000
END:DAYLIGHT
BEGIN:STANDARD
TZOFFSETFROM:+0200
TZOFFSETTO:+0100
TZNAME:CET
DTSTART:20151025T010000
END:STANDARD
END:VTIMEZONE
BEGIN:VEVENT
DTSTART;TZID=Europe/Stockholm:20151016T150000
DTEND;TZID=Europe/Stockholm:20151016T190000
DTSTAMP:20260420T055604
CREATED:20150902T114259Z
LAST-MODIFIED:20151016T081433Z
UID:3549-1445007600-1445022000@arkiv.gratisuppsala.se
SUMMARY:Bondens egen marknad
DESCRIPTION:Foto: Elisabeth Sandberg \n  \nBondens egen marknad är inne på sitt 5:e år i Uppsala. På marknaden har du möjlighet att köpa närproducerad mat. \nSamtliga marknader äger rum framför nya Resecentrum (mot Kungsgatan) i Uppsala kl. 14.00-18.00. \n  \n  \n16 oktober \n23 oktober \n30 oktober \nDela evenemanget
URL:https://arkiv.gratisuppsala.se/event/bondens-egen-marknad-6/
CATEGORIES:Marknad & Loppis
ATTACH;FMTTYPE=image/jpeg:https://arkiv.gratisuppsala.se/wp-content/uploads/2015/08/Bondens-egna-marknad-2015-e1444136163483.jpg
ORGANIZER;CN="Bondens%20egen%20marknad":MAILTO:monica@syltkrukan.se 
END:VEVENT
END:VCALENDAR