BEGIN:VCALENDAR
VERSION:2.0
PRODID:-//Gratis Uppsala - ECPv5.2.1//NONSGML v1.0//EN
CALSCALE:GREGORIAN
METHOD:PUBLISH
X-WR-CALNAME:Gratis Uppsala
X-ORIGINAL-URL:https://arkiv.gratisuppsala.se
X-WR-CALDESC:Händelser för Gratis Uppsala
BEGIN:VTIMEZONE
TZID:Europe/Stockholm
BEGIN:DAYLIGHT
TZOFFSETFROM:+0100
TZOFFSETTO:+0200
TZNAME:CEST
DTSTART:20160327T010000
END:DAYLIGHT
BEGIN:STANDARD
TZOFFSETFROM:+0200
TZOFFSETTO:+0100
TZNAME:CET
DTSTART:20161030T010000
END:STANDARD
END:VTIMEZONE
BEGIN:VEVENT
DTSTART;TZID=Europe/Stockholm:20160219T140000
DTEND;TZID=Europe/Stockholm:20160219T140000
DTSTAMP:20260420T074946
CREATED:20160210T115614Z
LAST-MODIFIED:20160210T120031Z
UID:6136-1455890400-1455890400@arkiv.gratisuppsala.se
SUMMARY:Broderier från 1950- och 60-talet
DESCRIPTION:Allmän visning av utställningen BRODERIER från 1950- och 60-talet – visas av hemslöjdskonsulent Annkristin Hult. Broderier från 1950- och 60-talet är en färgstark utställning med broderier av svenska textilformgivare som under 1950- och -60 talen sökte nya uttryck i det fria broderiet. \nElsa Agélii\, Ingrid Dessau\, Raine Navin och Ingrid Skerfe-Nilsson var formgivare som bröt sig loss från traditionens bojor och skapade ett broderi som sökte nya uttryck för den moderna människan. Broderierna såldes som mönstersatser till dukar\, kuddar\, spegelramar och mattor. De användes flitigt bl.a. i det nya vardagsrummet\, där TV:n\, ryan och soffgruppen blev stilbildande. \nIngrid Skerfe-Nilsson hade under många år textilateljé och affär på Drottninggatan i Uppsala. Hennes ryor i djärva mönster och färger såldes såväl hemma som till utlandet. Att knyta rya blev en populär hobby för både kvinnor och män. \nUtställningen är producerat av Östergötlands museum och har kompletterats med material från Upplandsmuseets samlingar ur hemslöjdens arkiv. \nDela evenemanget
URL:https://arkiv.gratisuppsala.se/event/broderier-fran-1950-och-60-talet/
LOCATION:Upplandsmuseet\, Fyristorg 2\, Uppsala\, Sverige
ATTACH;FMTTYPE=image/jpeg:https://arkiv.gratisuppsala.se/wp-content/uploads/2016/02/56b9b240c04d450c00485308_medium_gultbroderipress-e1455105197498.jpg
GEO:59.85895;17.634901
X-APPLE-STRUCTURED-LOCATION;VALUE=URI;X-ADDRESS=Upplandsmuseet Fyristorg 2 Uppsala Sverige;X-APPLE-RADIUS=500;X-TITLE=Fyristorg 2:geo:17.634901,59.85895
END:VEVENT
END:VCALENDAR