BEGIN:VCALENDAR
VERSION:2.0
PRODID:-//Gratis Uppsala - ECPv5.2.1//NONSGML v1.0//EN
CALSCALE:GREGORIAN
METHOD:PUBLISH
X-WR-CALNAME:Gratis Uppsala
X-ORIGINAL-URL:https://arkiv.gratisuppsala.se
X-WR-CALDESC:Händelser för Gratis Uppsala
BEGIN:VTIMEZONE
TZID:Europe/Stockholm
BEGIN:DAYLIGHT
TZOFFSETFROM:+0100
TZOFFSETTO:+0200
TZNAME:CEST
DTSTART:20160327T010000
END:DAYLIGHT
BEGIN:STANDARD
TZOFFSETFROM:+0200
TZOFFSETTO:+0100
TZNAME:CET
DTSTART:20161030T010000
END:STANDARD
END:VTIMEZONE
BEGIN:VEVENT
DTSTART;TZID=Europe/Stockholm:20161029T113000
DTEND;TZID=Europe/Stockholm:20161029T130000
DTSTAMP:20260420T100711
CREATED:20161028T075944Z
LAST-MODIFIED:20161028T080012Z
UID:9101-1477740600-1477746000@arkiv.gratisuppsala.se
SUMMARY:BOO! ! وب BÚ! – Spökhistorier från andra länder
DESCRIPTION:Berättarcafé för lite äldre barn. Kom och lyssna på rysliga spökhistorier från andra länder än Sverige! \nBidra gärna med en egen spökhistoria och berätta på vilket språk du vill. \nÅlder: Från ca 13 år. \n\nInspiration: creepypasta.se/creepypodden. Arr: Studiefrämjandet och Tierps bibliotek. En del av projektet ”Vi berättar!”. \nTid: Lördag 29 oktober kl 10.30-12.00 \nPlats: Tierps bibliotek \n\n Dela evenemanget
URL:https://arkiv.gratisuppsala.se/event/bu-spokhistorier-fran-andra-lander/
LOCATION:Tierps bibliotek\, Grevegatan 19\, Tierp\, 815 23
CATEGORIES:Litteratur och Poesi
ATTACH;FMTTYPE=image/jpeg:https://arkiv.gratisuppsala.se/wp-content/uploads/2016/10/Tierps-bibliotek_webb-1.jpg
GEO:60.3458867;17.5147166
X-APPLE-STRUCTURED-LOCATION;VALUE=URI;X-ADDRESS=Tierps bibliotek Grevegatan 19 Tierp 815 23;X-APPLE-RADIUS=500;X-TITLE=Grevegatan 19:geo:17.5147166,60.3458867
END:VEVENT
END:VCALENDAR