BEGIN:VCALENDAR
VERSION:2.0
PRODID:-//Gratis Uppsala - ECPv5.2.1//NONSGML v1.0//EN
CALSCALE:GREGORIAN
METHOD:PUBLISH
X-WR-CALNAME:Gratis Uppsala
X-ORIGINAL-URL:https://arkiv.gratisuppsala.se
X-WR-CALDESC:Händelser för Gratis Uppsala
BEGIN:VTIMEZONE
TZID:Europe/Stockholm
BEGIN:DAYLIGHT
TZOFFSETFROM:+0100
TZOFFSETTO:+0200
TZNAME:CEST
DTSTART:20170326T010000
END:DAYLIGHT
BEGIN:STANDARD
TZOFFSETFROM:+0200
TZOFFSETTO:+0100
TZNAME:CET
DTSTART:20171029T010000
END:STANDARD
END:VTIMEZONE
BEGIN:VEVENT
DTSTART;TZID=Europe/Stockholm:20170324T170000
DTEND;TZID=Europe/Stockholm:20170324T220000
DTSTAMP:20260420T024301
CREATED:20170309T102142Z
LAST-MODIFIED:20170309T102142Z
UID:12398-1490374800-1490392800@arkiv.gratisuppsala.se
SUMMARY:Café Colorful
DESCRIPTION:Café för HBTQ-ungdomar 13-21 år\n\n\n\n\n\nCafé Colorful är Grands häng för hbtq-ungdomar mellan 13-21 år. Caféet har öppet för dig som är homosexuell\, bisexuell\, transperson och queer\, för dig som inte vill definiera dig och/eller har tankar kring din sexualitet och könsidentitet. Du har rätt att vara dig och det är helt fantastiskt. \n\nTill Café Coloful kan du komma och hänga med andra sköningar för att pyssla\, mysa\, och göra en massa annat kul! Hela huset kommer fyllas med aktiviteter under kvällen men du kan såklart bara fika och ta det lugnt. \n\n\n\n\n\n\nAktuella datum:\n24 mars\n5 maj\n26 maj \nÖppettider: 17-22. \nHar du frågor om Café Colorful\, kontakta Karolina Westman\, som är fritidsledare och ansvarig för Café Colorful. \n\n\n\n\n\n\nKarolina Westman\n018-727 51 83\nKarolina.Westman@Uppsala.se\n\n\n\n\n Dela evenemanget
URL:https://arkiv.gratisuppsala.se/event/cafe-colorful/2017-03-24/
LOCATION:Grand\, Trädgårdsgatan 5\, Uppsala\, 753 09\, Sverige
CATEGORIES:Kropp och Själ
ATTACH;FMTTYPE=image/png:https://arkiv.gratisuppsala.se/wp-content/uploads/2017/03/hearts-583063__340.png
ORGANIZER;CN="Uppsala%20kommun":MAILTO:uppsala.kommun@uppsala.se
END:VEVENT
END:VCALENDAR