BEGIN:VCALENDAR
VERSION:2.0
PRODID:-//Gratis Uppsala - ECPv5.2.1//NONSGML v1.0//EN
CALSCALE:GREGORIAN
METHOD:PUBLISH
X-WR-CALNAME:Gratis Uppsala
X-ORIGINAL-URL:https://arkiv.gratisuppsala.se
X-WR-CALDESC:Händelser för Gratis Uppsala
BEGIN:VTIMEZONE
TZID:Europe/Stockholm
BEGIN:DAYLIGHT
TZOFFSETFROM:+0100
TZOFFSETTO:+0200
TZNAME:CEST
DTSTART:20150329T010000
END:DAYLIGHT
BEGIN:STANDARD
TZOFFSETFROM:+0200
TZOFFSETTO:+0100
TZNAME:CET
DTSTART:20151025T010000
END:STANDARD
END:VTIMEZONE
BEGIN:VEVENT
DTSTART;TZID=Europe/Stockholm:20151017T190000
DTEND;TZID=Europe/Stockholm:20151017T200000
DTSTAMP:20260420T024617
CREATED:20151015T101143Z
LAST-MODIFIED:20151015T101143Z
UID:4162-1445108400-1445112000@arkiv.gratisuppsala.se
SUMMARY:Cantate Domino\, damkören FriTillAria sjunger moderna verk på latin
DESCRIPTION:Bjud både öronen och själen på lite lördagsgodis! Damkören FriTillAria sjunger moderna verk på latin \n\n– A little Jazz mass\, av Bob Chilcott\n– Missa Brevis\, av Per Gunnar Petersson\n– Cantate Domino\, av Nancy Hill Cobb \nMedverkande:\nAnders Bromander – piano\nVilhelm Bromander – bas\nMats Engström – slagverk\nInger Knecht Lindmark – dirigent \nFri entré \n\n Dela evenemanget
URL:https://arkiv.gratisuppsala.se/event/cantate-domino-damkoren-fritillaria-sjunger-moderna-verk-pa-latin/
LOCATION:Sävja kyrka\, Carl Von Linnés Väg 2\, Uppsala\, 75756\, Sverige
CATEGORIES:Sång och Musik
GEO:59.8200024;17.7015132
X-APPLE-STRUCTURED-LOCATION;VALUE=URI;X-ADDRESS=Sävja kyrka Carl Von Linnés Väg 2 Uppsala 75756 Sverige;X-APPLE-RADIUS=500;X-TITLE=Carl Von Linnés Väg 2:geo:17.7015132,59.8200024
END:VEVENT
END:VCALENDAR