BEGIN:VCALENDAR
VERSION:2.0
PRODID:-//Gratis Uppsala - ECPv5.2.1//NONSGML v1.0//EN
CALSCALE:GREGORIAN
METHOD:PUBLISH
X-WR-CALNAME:Gratis Uppsala
X-ORIGINAL-URL:https://arkiv.gratisuppsala.se
X-WR-CALDESC:Händelser för Gratis Uppsala
BEGIN:VTIMEZONE
TZID:Europe/Stockholm
BEGIN:DAYLIGHT
TZOFFSETFROM:+0100
TZOFFSETTO:+0200
TZNAME:CEST
DTSTART:20170326T010000
END:DAYLIGHT
BEGIN:STANDARD
TZOFFSETFROM:+0200
TZOFFSETTO:+0100
TZNAME:CET
DTSTART:20171029T010000
END:STANDARD
END:VTIMEZONE
BEGIN:VEVENT
DTSTART;TZID=Europe/Stockholm:20170513T170000
DTEND;TZID=Europe/Stockholm:20170513T170000
DTSTAMP:20260420T015042
CREATED:20170502T071610Z
LAST-MODIFIED:20170504T065019Z
UID:13533-1494694800-1494694800@arkiv.gratisuppsala.se
SUMMARY:Carte Blanche :Trio X och hemliga gäster
DESCRIPTION:Gratis konsert i UKK:s restaurang\nCarte Blanchesuccén fortsätter även i vår. I sex år har många överraskande möten mellan Trio X och hemliga gäster ägt rum i UKK:s restaurang. Dessa lördagseftermiddagar har lockat stora publikskaror som fått uppleva exklusiva gästspel av kända och kära artister\, musikanter och underhållare. \n\n\nDen gäst som är hemlig för publiken har i sin tur bjudit in ytterligare en gäst som är hemlig för Trio X. Det innebär att publiken får uppleva ett spontant samspel mellan Trio X och gästartisterna. Alltid på högsta musikaliska och artistiska nivå. \nEn lång rad av våra främsta artister har besökt Uppsala Konsert & Kongress och Carte Blanche. De senaste säsongerna har vi överraskats av artister som Magnus Carlson\, Wille Crafoord\, Rebecka Törnqvist\, Anders Paulsson\, Frank Ådal\, Johan Lindström\, Nina Ramsby\, Jonas Knutsson\, Svante Drake\, Jeanette Köhn\, Rigmor Gustafsson\, Babben Larsson\, Mats Ronander\, Maria Möller\, Peter Asplund\, Claes Yngström\, Svante Thuresson\, Lill-Babs\, Helen Sjöholm\, Orphei Drängar\, Sven-Bertil Taube med flera. \nTrio X \nLennart Simonsson\, piano\nPer V Johansson\, bas\nJoakim Ekberg\, trummor\nmed hemliga gästartister \nTrio X är anställda av Musik i Uppland och har en stor stilistisk bredd och ger sig med samma pondus in i all tänkbar musik – jazz\, visor\, latin\, folkmusik\, klassisk\, soul\, pop\, rock. Gruppen utforskar ständigt sina musikaliska möjligheter och hur de kan utveckla den spännande trioformen. I Carte Blanche visar de varje gång att de är en av Sveriges mest framsynta improvisationsgrupper som ständigt utmanar sig själva och söker nya samarbeten. \nBilden hämtad från google.se \n\n Dela evenemanget
URL:https://arkiv.gratisuppsala.se/event/carte-blanche-trio-x-och-hemliga-gaster/
LOCATION:Uppsala Konsert & Kongress\, Vaksalatorg 1\, Uppsala
CATEGORIES:Konsert,Sång och Musik
ATTACH;FMTTYPE=image/jpeg:https://arkiv.gratisuppsala.se/wp-content/uploads/2017/05/Uppsala_Konsert__kongress_6012460594.jpg
ORGANIZER;CN="Uppsala%20Konsert%20%26%20Kongress":MAILTO:info@ukk.se
GEO:59.8614429;17.6460839
X-APPLE-STRUCTURED-LOCATION;VALUE=URI;X-ADDRESS=Uppsala Konsert & Kongress Vaksalatorg 1 Uppsala;X-APPLE-RADIUS=500;X-TITLE=Vaksalatorg 1:geo:17.6460839,59.8614429
END:VEVENT
END:VCALENDAR