BEGIN:VCALENDAR
VERSION:2.0
PRODID:-//Gratis Uppsala - ECPv5.2.1//NONSGML v1.0//EN
CALSCALE:GREGORIAN
METHOD:PUBLISH
X-WR-CALNAME:Gratis Uppsala
X-ORIGINAL-URL:https://arkiv.gratisuppsala.se
X-WR-CALDESC:Händelser för Gratis Uppsala
BEGIN:VTIMEZONE
TZID:Europe/Stockholm
BEGIN:DAYLIGHT
TZOFFSETFROM:+0100
TZOFFSETTO:+0200
TZNAME:CEST
DTSTART:20160327T010000
END:DAYLIGHT
BEGIN:STANDARD
TZOFFSETFROM:+0200
TZOFFSETTO:+0100
TZNAME:CET
DTSTART:20161030T010000
END:STANDARD
END:VTIMEZONE
BEGIN:VEVENT
DTSTART;TZID=Europe/Stockholm:20160908T200000
DTEND;TZID=Europe/Stockholm:20160908T204500
DTSTAMP:20260421T003916
CREATED:20160805T102516Z
LAST-MODIFIED:20160808T073031Z
UID:7984-1473364800-1473367500@arkiv.gratisuppsala.se
SUMMARY:Cellokonsert av Aina Myrstener
DESCRIPTION:Akustiskt och elektroniskt på cello av Aina Myrstener i Vasasalen på Uppsala Konstmuseum. \nAina Myrstener är musiker och musikproducent som improviserar och experimenterar akustiskt och elektroniskt på sin cello\, klipper ihop och samplar stycken som hon lägger i många\, slingrande\, rytmiska lager. Hennes magiska\, minimalistiska och repetitativa verk leder associationerna till något avlägset och stilla\, till tusenåriga skogar och övergivna civilisationer. \nI anslutning till konserten visas en utställning med Peter Weiss på Uppsala konstmuseum. \nDela evenemanget
URL:https://arkiv.gratisuppsala.se/event/cellokonsert-av-aina-myrstener/
LOCATION:Uppsala konstmuseum\, Drottning Christinas väg 1E\, Uppsala\, 75237 \, Sverige
CATEGORIES:Sång och Musik,Utställning
ORGANIZER;CN="Uppsala%20Konsert%20%26%20Kongress":MAILTO:info@ukk.se
GEO:59.8532935;17.6351313
X-APPLE-STRUCTURED-LOCATION;VALUE=URI;X-ADDRESS=Uppsala konstmuseum Drottning Christinas väg 1E Uppsala 75237  Sverige;X-APPLE-RADIUS=500;X-TITLE=Drottning Christinas väg 1E:geo:17.6351313,59.8532935
END:VEVENT
END:VCALENDAR