BEGIN:VCALENDAR
VERSION:2.0
PRODID:-//Gratis Uppsala - ECPv5.2.1//NONSGML v1.0//EN
CALSCALE:GREGORIAN
METHOD:PUBLISH
X-WR-CALNAME:Gratis Uppsala
X-ORIGINAL-URL:https://arkiv.gratisuppsala.se
X-WR-CALDESC:Händelser för Gratis Uppsala
BEGIN:VTIMEZONE
TZID:Europe/Stockholm
BEGIN:DAYLIGHT
TZOFFSETFROM:+0100
TZOFFSETTO:+0200
TZNAME:CEST
DTSTART:20160327T010000
END:DAYLIGHT
BEGIN:STANDARD
TZOFFSETFROM:+0200
TZOFFSETTO:+0100
TZNAME:CET
DTSTART:20161030T010000
END:STANDARD
END:VTIMEZONE
BEGIN:VEVENT
DTSTART;VALUE=DATE:20160218
DTEND;VALUE=DATE:20160220
DTSTAMP:20260422T114944
CREATED:20160212T103442Z
LAST-MODIFIED:20160212T103442Z
UID:6163-1455753600-1455926399@arkiv.gratisuppsala.se
SUMMARY:Celsius-Linnéföreläsningarna med symposium
DESCRIPTION:CELSIUS-LINNÉFÖRELÄSNINGAR 18 FEBRUARI\, 2016\nPlats:  Siegbahnsalen\, Ångströmlaboratoriet\nFri entré. Ingen registrering behövs. \nCelsiusföreläsning:\n14.00: Photovoltaic conversion of black body radiation to electricity: solar and non-solar\nProfessor Eli Yablonovitch\, Dept. of Electrical Engineering & Computer Sciences\, UC Berkeley\, USA \n\nLinnéföreläsning:\n15.30: Wizardry with light\nMallinckrodt Professor Lene Vestergaard-Hau\, Physics and Applied Physics\, Harvard University\, USA \nCELSIUS-LINNÉSYMPOSIUM 19 FEBRUARI\, 2016\nPlats:  Siegbahnsalen\, Ångströmlaboratoriet \nTema: Winter Light \nDela evenemanget
URL:https://arkiv.gratisuppsala.se/event/celsius-linneforelasningarna-med-symposium/
LOCATION:Ångströmlaboratoriet\, Lägerhyddsvägen 1\, Uppsala\, 75237\, Sverige
CATEGORIES:Föreläsning och Kurs
GEO:59.8392565;17.6470745
X-APPLE-STRUCTURED-LOCATION;VALUE=URI;X-ADDRESS=Ångströmlaboratoriet Lägerhyddsvägen 1 Uppsala 75237 Sverige;X-APPLE-RADIUS=500;X-TITLE=Lägerhyddsvägen 1:geo:17.6470745,59.8392565
END:VEVENT
END:VCALENDAR