BEGIN:VCALENDAR
VERSION:2.0
PRODID:-//Gratis Uppsala - ECPv5.2.1//NONSGML v1.0//EN
CALSCALE:GREGORIAN
METHOD:PUBLISH
X-WR-CALNAME:Gratis Uppsala
X-ORIGINAL-URL:https://arkiv.gratisuppsala.se
X-WR-CALDESC:Händelser för Gratis Uppsala
BEGIN:VTIMEZONE
TZID:Europe/Stockholm
BEGIN:DAYLIGHT
TZOFFSETFROM:+0100
TZOFFSETTO:+0200
TZNAME:CEST
DTSTART:20200329T010000
END:DAYLIGHT
BEGIN:STANDARD
TZOFFSETFROM:+0200
TZOFFSETTO:+0100
TZNAME:CET
DTSTART:20201025T010000
END:STANDARD
END:VTIMEZONE
BEGIN:VEVENT
DTSTART;TZID=Europe/Stockholm:20200221T200000
DTEND;TZID=Europe/Stockholm:20200221T220000
DTSTAMP:20260420T194750
CREATED:20200217T150238Z
LAST-MODIFIED:20200217T150238Z
UID:42894-1582315200-1582322400@arkiv.gratisuppsala.se
SUMMARY:Gratis filmvisning på CIK: Joker | 15 år+
DESCRIPTION:Gratis filmvisning på CIK: Joker | 15 år+\nVälkommen till Knivsta kommuns splitternya anläggning Knivsta Centrum för idrott och kultur / CIK. \nUnder sportlovsveckan arrangerar filmklubben på CIK filmvisning av Joker (från 15 år) helt kostnadsfritt. Det kommer finnas möjlighet att köpa snacks i restaurangen innan filmen börjar. \nAlla som vill komma är varmt Välkomna! \nDatum: fredagen den 21 februari 2020\nTid: 20.00\nLängd: 112 min\nPlats: Knivsta Centrum för idrott och kultur / CIK\nSpråk: Engelska\nTexning: Svenska\nÅlder: 15 år+\nPris: Gratis\nAnmälan: Ingen anmälan till någon av filmvisningarna men man behöver uppfylla ålderskravet för att få se filmen. \n  \n\nCIKs filmklubb\nI framtiden kommer CIKs filmvisningar vara till för medlemmar av filmklubben. Som medlem i filmklubben kommer en kunna ha synpunkter och påverka filmutbudet som visas. \nÄr du intresserad att vara med i filmklubben? Maila då din anmälan till sumaiya.syeda@knivsta.se för mer information. \n  \n\nBesök gärna länkarna nedan (externa länkar öppnas i ett nytt fönster/flik).\nGratis filmvisning på CIK | Gratis filmvisning på CIK: Angrybird 2 (7 år+) | Kommande event på Sportlovet \nBild: från Arrangör \nDela evenemanget
URL:https://arkiv.gratisuppsala.se/event/cik-sportlov-2020-joker/
LOCATION:CIK – Knivsta Centrum för idrott och kultur\, Parkvägen 31 A\, Knivsta\, 741 75\, Sverige
CATEGORIES:Ålderskategori,Anmälan / Kostnad,Bio,Familj,Geografisk kategori,Gratis,Ingen föranmälan,Knivsta Kommun,Skollov,Sportlov,Teater och Bio,Ungdom,Vuxen
ATTACH;FMTTYPE=image/jpeg:https://arkiv.gratisuppsala.se/wp-content/uploads/2020/02/joker_poster-002-e1581950983606.jpg
ORGANIZER;CN="Knivsta%20Kommun":MAILTO:knivsta@knivsta.se 
END:VEVENT
END:VCALENDAR