BEGIN:VCALENDAR
VERSION:2.0
PRODID:-//Gratis Uppsala - ECPv5.2.1//NONSGML v1.0//EN
CALSCALE:GREGORIAN
METHOD:PUBLISH
X-WR-CALNAME:Gratis Uppsala
X-ORIGINAL-URL:https://arkiv.gratisuppsala.se
X-WR-CALDESC:Händelser för Gratis Uppsala
BEGIN:VTIMEZONE
TZID:Europe/Stockholm
BEGIN:DAYLIGHT
TZOFFSETFROM:+0100
TZOFFSETTO:+0200
TZNAME:CEST
DTSTART:20180325T010000
END:DAYLIGHT
BEGIN:STANDARD
TZOFFSETFROM:+0200
TZOFFSETTO:+0100
TZNAME:CET
DTSTART:20181028T010000
END:STANDARD
END:VTIMEZONE
BEGIN:VEVENT
DTSTART;TZID=Europe/Stockholm:20180730T140000
DTEND;TZID=Europe/Stockholm:20180730T143000
DTSTAMP:20260420T005422
CREATED:20180730T055749Z
LAST-MODIFIED:20180730T055850Z
UID:26848-1532959200-1532961000@arkiv.gratisuppsala.se
SUMMARY:Clowner på Amfiteatern
DESCRIPTION:Gratis föreställning för alla åldrar. \nTRIO SMACK\nEn trickbaserad föreställning gjord för att förstås av alla oavsett språk eller kultur.\nDotterbolaget är en fri teatergrupp baserad i Stockholm. De producerar clownföreställningar för barn och vuxna.\nDotterbolagets föreställningar görs med hjälp av ett jävlar anamma och bidrag från bland andra Statens Kulturråd\, Stockholms läns landsting och Stockholm stad. \n(Bild från pixabay.com.) \nDela evenemanget
URL:https://arkiv.gratisuppsala.se/event/clowner-pa-amfiteatern/
LOCATION:Källparken\, Källparksgatan\, Uppsala\, 754 34\, Sverige
CATEGORIES:Teater och Bio,Utomhusaktivitet
ATTACH;FMTTYPE=image/jpeg:https://arkiv.gratisuppsala.se/wp-content/uploads/2018/07/clown-678042_640.jpg
ORGANIZER;CN="Dotterbolaget":MAILTO:Dotterbolaget@gmail.com
GEO:59.8713604;17.6732399
X-APPLE-STRUCTURED-LOCATION;VALUE=URI;X-ADDRESS=Källparken Källparksgatan Uppsala 754 34 Sverige;X-APPLE-RADIUS=500;X-TITLE=Källparksgatan:geo:17.6732399,59.8713604
END:VEVENT
END:VCALENDAR