BEGIN:VCALENDAR
VERSION:2.0
PRODID:-//Gratis Uppsala - ECPv5.2.1//NONSGML v1.0//EN
CALSCALE:GREGORIAN
METHOD:PUBLISH
X-WR-CALNAME:Gratis Uppsala
X-ORIGINAL-URL:https://arkiv.gratisuppsala.se
X-WR-CALDESC:Händelser för Gratis Uppsala
BEGIN:VTIMEZONE
TZID:Europe/Stockholm
BEGIN:DAYLIGHT
TZOFFSETFROM:+0100
TZOFFSETTO:+0200
TZNAME:CEST
DTSTART:20160327T010000
END:DAYLIGHT
BEGIN:STANDARD
TZOFFSETFROM:+0200
TZOFFSETTO:+0100
TZNAME:CET
DTSTART:20161030T010000
END:STANDARD
END:VTIMEZONE
BEGIN:VEVENT
DTSTART;TZID=Europe/Stockholm:20160211T160000
DTEND;TZID=Europe/Stockholm:20160211T180000
DTSTAMP:20260421T165127
CREATED:20160203T102308Z
LAST-MODIFIED:20160203T102308Z
UID:6049-1455206400-1455213600@arkiv.gratisuppsala.se
SUMMARY:Craftivism
DESCRIPTION:Är du 13-19 år? Skapa – sticka\, fingervirka\, brodera – och ställ ut runt om i huset och området. \nVi garnbombar Sävja!!! \nDela evenemanget
URL:https://arkiv.gratisuppsala.se/event/craftivism/2016-02-11/
LOCATION:Sävjabiblioteket\, Västgötaresan 133\, Uppsala\, 757 54\, Sverige
ATTACH;FMTTYPE=image/jpeg:https://arkiv.gratisuppsala.se/wp-content/uploads/2016/02/Virka.jpg
ORGANIZER;CN="Bibliotek%20Uppsala":MAILTO:kundtjanst@bibliotekuppsala.se
GEO:59.810724;17.702339
X-APPLE-STRUCTURED-LOCATION;VALUE=URI;X-ADDRESS=Sävjabiblioteket Västgötaresan 133 Uppsala 757 54 Sverige;X-APPLE-RADIUS=500;X-TITLE=Västgötaresan 133:geo:17.702339,59.810724
END:VEVENT
END:VCALENDAR