BEGIN:VCALENDAR
VERSION:2.0
PRODID:-//Gratis Uppsala - ECPv5.2.1//NONSGML v1.0//EN
CALSCALE:GREGORIAN
METHOD:PUBLISH
X-WR-CALNAME:Gratis Uppsala
X-ORIGINAL-URL:https://arkiv.gratisuppsala.se
X-WR-CALDESC:Händelser för Gratis Uppsala
BEGIN:VTIMEZONE
TZID:Europe/Stockholm
BEGIN:DAYLIGHT
TZOFFSETFROM:+0100
TZOFFSETTO:+0200
TZNAME:CEST
DTSTART:20150329T010000
END:DAYLIGHT
BEGIN:STANDARD
TZOFFSETFROM:+0200
TZOFFSETTO:+0100
TZNAME:CET
DTSTART:20151025T010000
END:STANDARD
END:VTIMEZONE
BEGIN:VEVENT
DTSTART;TZID=Europe/Stockholm:20151210T180000
DTEND;TZID=Europe/Stockholm:20151210T200000
DTSTAMP:20260420T011716
CREATED:20151123T104138Z
LAST-MODIFIED:20151123T104138Z
UID:4819-1449770400-1449777600@arkiv.gratisuppsala.se
SUMMARY:Dagens nationalism: likheter med 30-talets Europa
DESCRIPTION:Sverker Gustavsson\, prof statsvetenskapliga institutionen vid Uppsala universitet\, om nationalism och de likheter som finns med 30-talets Europa. Vilka lärdomar kan vi dra? Vilka är skillnaderna? \nDela evenemanget
URL:https://arkiv.gratisuppsala.se/event/dagens-nationalism-likheter-med-30-talets-europa/
LOCATION:Socialdemokraternas expedition\, Dragarbrunnsgatan 35\, plan 4\, Uppsala\, 753 20\, Sverige
CATEGORIES:Föreläsning och Kurs
GEO:59.8584151;17.6417382
X-APPLE-STRUCTURED-LOCATION;VALUE=URI;X-ADDRESS=Socialdemokraternas expedition Dragarbrunnsgatan 35 plan 4 Uppsala 753 20 Sverige;X-APPLE-RADIUS=500;X-TITLE=Dragarbrunnsgatan 35\, plan 4:geo:17.6417382,59.8584151
END:VEVENT
END:VCALENDAR