BEGIN:VCALENDAR
VERSION:2.0
PRODID:-//Gratis Uppsala - ECPv5.2.1//NONSGML v1.0//EN
CALSCALE:GREGORIAN
METHOD:PUBLISH
X-WR-CALNAME:Gratis Uppsala
X-ORIGINAL-URL:https://arkiv.gratisuppsala.se
X-WR-CALDESC:Händelser för Gratis Uppsala
BEGIN:VTIMEZONE
TZID:Europe/Stockholm
BEGIN:DAYLIGHT
TZOFFSETFROM:+0100
TZOFFSETTO:+0200
TZNAME:CEST
DTSTART:20170326T010000
END:DAYLIGHT
BEGIN:STANDARD
TZOFFSETFROM:+0200
TZOFFSETTO:+0100
TZNAME:CET
DTSTART:20171029T010000
END:STANDARD
END:VTIMEZONE
BEGIN:VEVENT
DTSTART;TZID=Europe/Stockholm:20170314T190000
DTEND;TZID=Europe/Stockholm:20170314T200000
DTSTAMP:20260420T082036
CREATED:20170307T084422Z
LAST-MODIFIED:20170307T084533Z
UID:12315-1489518000-1489521600@arkiv.gratisuppsala.se
SUMMARY:The Danish girl - Transpersoner och könsbekräftande behandling.
DESCRIPTION:Foto: Uppsala universitet website. \nThe Danish girl – Transpersoner och könsbekräftande behandling \n\nTisdag\, den 14 mars inbjuder Konst – Läkekonst till The Danish girl – Transpersoner och könsbekräftande behandling. I samtalet deltar Sam Holmqvist\, litteraturvetare\, Patrik Steorn\, konstvetare samt Georgios Karamanis\, läkare.Den uppmärksammade filmen The Danish Girl (2015) handlar om den danska konstnären Gerda Wegener och hennes modell Lili Elbe\, som hon var gift med. Elbe kom att bli den första i världen att genomgående könsbekräftande behandling. Just nu visas Wegeners verk på Millesgården.  Vid seminariet kommer frågor om konst\, litteratur\, queerhet\, transsexualitet och könsbekräftande behandling att diskuteras av forskare från humaniora och medicin. \nVärd: Carina Burman \nArrangör: Kulturkommittén för Konst – Läkekonst vid Uppsala universitet och Akademiska sjukhuset med stöd av UNT.\nPlats: Grönwallsalen\, ingång 70\, UAS\nÖvrigt: Fri entré\, ingen föranmälan \n\n Dela evenemanget
URL:https://arkiv.gratisuppsala.se/event/danish-girl-transpersoner-och-konsbekraftande-behandling/
LOCATION:Uppsala universitetshus\, Biskopsgatan 3\, Uppsala\, 75310\, Sverige
CATEGORIES:Föreläsning och Kurs,Påsklov,Teater och Bio
GEO:59.8577301;17.6298234
X-APPLE-STRUCTURED-LOCATION;VALUE=URI;X-ADDRESS=Uppsala universitetshus Biskopsgatan 3 Uppsala 75310 Sverige;X-APPLE-RADIUS=500;X-TITLE=Biskopsgatan 3:geo:17.6298234,59.8577301
END:VEVENT
END:VCALENDAR