BEGIN:VCALENDAR
VERSION:2.0
PRODID:-//Gratis Uppsala - ECPv5.2.1//NONSGML v1.0//EN
CALSCALE:GREGORIAN
METHOD:PUBLISH
X-WR-CALNAME:Gratis Uppsala
X-ORIGINAL-URL:https://arkiv.gratisuppsala.se
X-WR-CALDESC:Händelser för Gratis Uppsala
BEGIN:VTIMEZONE
TZID:Europe/Stockholm
BEGIN:DAYLIGHT
TZOFFSETFROM:+0100
TZOFFSETTO:+0200
TZNAME:CEST
DTSTART:20160327T010000
END:DAYLIGHT
BEGIN:STANDARD
TZOFFSETFROM:+0200
TZOFFSETTO:+0100
TZNAME:CET
DTSTART:20161030T010000
END:STANDARD
END:VTIMEZONE
BEGIN:VEVENT
DTSTART;TZID=Europe/Stockholm:20161105T140000
DTEND;TZID=Europe/Stockholm:20161105T153000
DTSTAMP:20260420T181508
CREATED:20161011T102234Z
LAST-MODIFIED:20161011T102234Z
UID:8813-1478354400-1478359800@arkiv.gratisuppsala.se
SUMMARY:Dansfiket: Den informella mötesplatsen för danskonst!
DESCRIPTION:Även den mest ovana danskonsument känner sig hemma på Maud Karlssons dansfik. Här presenteras den samtida dansen på ett avslappnat och direkt sätt. Ett annorlunda koncept där modern dans möter traditionell lördagsfika. \n\n\nEtablerade koreografer och danskonstnärer delar med sig av sitt arbete\, visar delar ur färdiga verk\, hela färdiga verk\, film eller improvisation. De bjuder även på samtal kring koreografiskt och konstnärligt tänkande. Allt sker i dialog med publiken och i en varm välkomnade miljö! \nI november besöker Haiti Dansfiket. Dans\, musik och film på Uppsala Konsert & Kongress och Fyrisbiografen. \nJeanguy Saintus – koreograf och konstnärlig ledare för Ayikodans\, med tre av sina dansare i delat program med 6 musiker\, varav 4 från Haiti och 2 från Sverige. Garanterat färgstarkt\, vackert och rytmiskt! Fri entré! \n  \n\n\n Dela evenemanget
URL:https://arkiv.gratisuppsala.se/event/dansfiket-den-informella-motesplatsen-danskonst/
LOCATION:Uppsala Konsert & Kongress\, Vaksalatorg 1\, Uppsala
CATEGORIES:Dans,Sång och Musik
ATTACH;FMTTYPE=image/jpeg:https://arkiv.gratisuppsala.se/wp-content/uploads/2016/10/dansfiket.jpg
ORGANIZER;CN="Uppsala%20Konsert%20%26%20Kongress":MAILTO:info@ukk.se
GEO:59.8614429;17.6460839
X-APPLE-STRUCTURED-LOCATION;VALUE=URI;X-ADDRESS=Uppsala Konsert & Kongress Vaksalatorg 1 Uppsala;X-APPLE-RADIUS=500;X-TITLE=Vaksalatorg 1:geo:17.6460839,59.8614429
END:VEVENT
END:VCALENDAR