BEGIN:VCALENDAR
VERSION:2.0
PRODID:-//Gratis Uppsala - ECPv5.2.1//NONSGML v1.0//EN
CALSCALE:GREGORIAN
METHOD:PUBLISH
X-WR-CALNAME:Gratis Uppsala
X-ORIGINAL-URL:https://arkiv.gratisuppsala.se
X-WR-CALDESC:Händelser för Gratis Uppsala
BEGIN:VTIMEZONE
TZID:Europe/Stockholm
BEGIN:DAYLIGHT
TZOFFSETFROM:+0100
TZOFFSETTO:+0200
TZNAME:CEST
DTSTART:20150329T010000
END:DAYLIGHT
BEGIN:STANDARD
TZOFFSETFROM:+0200
TZOFFSETTO:+0100
TZNAME:CET
DTSTART:20151025T010000
END:STANDARD
END:VTIMEZONE
BEGIN:VEVENT
DTSTART;TZID=Europe/Stockholm:20151018T130000
DTEND;TZID=Europe/Stockholm:20151012T163000
DTSTAMP:20260420T024323
CREATED:20150909T063114Z
LAST-MODIFIED:20151012T101259Z
UID:3652-1445173200-1444667400@arkiv.gratisuppsala.se
SUMMARY:Den dolda staden
DESCRIPTION:Den dolda staden – rum och platser från stadens och universitetets historia\n\nStaden visar upp sin fasad för oss\, men bakom väggar och under marken finns allt det som döljer sig under det urbana isbergets topp. Arkeologen Joakim Kjellberg och universitetsguiden Mikael Norrby tar med er bakom stängsel och ned i gömda och glömda rum i Uppsala i sökandet efter stadens och universitetets historia. \n\n\nVisningarna startar 12.00 och 14:00. \nAktiviteten är delvis utomhus så klä er efter väder i oömma kläder. Evenemanget är kostnadsfritt men antalet deltagare är begränsat\, så kom i tid. Varmt välkommen! \nDen goda staden – ett kultursamverkansprojekt \n\nUppsala universitets “Den goda staden” är ett samverkansprojekt där kultur och vetenskap kopplas samman. Här sätter vi fokus på frågor om utanförskap och gemenskap. Det är angeläget när yttrandefrihet och demokrati\, mångfald och lika villkor – självklara värden för ett universitet – på olika sätt hotas i vår omvärld. Utmaningarna är många när vår urbana livsmiljö står i fokus – utanförskap\, att finna sig själv\, hållbart stadsliv\, integration och miljöer som främjar välbefinnande och tillhörighet. \n\n  \n\n\n Dela evenemanget
URL:https://arkiv.gratisuppsala.se/event/den-goda-staden-den-dolda-staden/
LOCATION:S:t Eriks torg\, S:t Eriks torg\, uppsala\,  753 10\, Sverige
CATEGORIES:Föreläsning och Kurs,Samhälle
ATTACH;FMTTYPE=image/jpg:https://arkiv.gratisuppsala.se/wp-content/uploads/2015/09/uu-logga-e1447160818548-1.jpg
GEO:59.8586868;17.633434
X-APPLE-STRUCTURED-LOCATION;VALUE=URI;X-ADDRESS=S:t Eriks torg S:t Eriks torg uppsala  753 10 Sverige;X-APPLE-RADIUS=500;X-TITLE=S:t Eriks torg:geo:17.633434,59.8586868
END:VEVENT
END:VCALENDAR