BEGIN:VCALENDAR
VERSION:2.0
PRODID:-//Gratis Uppsala - ECPv5.2.1//NONSGML v1.0//EN
CALSCALE:GREGORIAN
METHOD:PUBLISH
X-WR-CALNAME:Gratis Uppsala
X-ORIGINAL-URL:https://arkiv.gratisuppsala.se
X-WR-CALDESC:Händelser för Gratis Uppsala
BEGIN:VTIMEZONE
TZID:Europe/Stockholm
BEGIN:DAYLIGHT
TZOFFSETFROM:+0100
TZOFFSETTO:+0200
TZNAME:CEST
DTSTART:20150329T010000
END:DAYLIGHT
BEGIN:STANDARD
TZOFFSETFROM:+0200
TZOFFSETTO:+0100
TZNAME:CET
DTSTART:20151025T010000
END:STANDARD
END:VTIMEZONE
BEGIN:VEVENT
DTSTART;TZID=Europe/Stockholm:20150924T173000
DTEND;TZID=Europe/Stockholm:20150924T173000
DTSTAMP:20260419T214809
CREATED:20150908T114638Z
LAST-MODIFIED:20150908T115353Z
UID:3648-1443115800-1443115800@arkiv.gratisuppsala.se
SUMMARY:Den goda staden - Leva fotboll! Supporterskap\, kreativitet och identitet
DESCRIPTION:Den goda staden – ett kultursamverkansprojekt\n\nUppsala universitets “Den goda staden” är ett samverkansprojekt där kultur och vetenskap kopplas samman. Här sätter vi fokus på frågor om utanförskap och gemenskap. Det är angeläget när yttrandefrihet och demokrati\, mångfald och lika villkor – självklara värden för ett universitet – på olika sätt hotas i vår omvärld. Utmaningarna är många när vår urbana livsmiljö står i fokus – utanförskap\, att finna sig själv\, hållbart stadsliv\, integration och miljöer som främjar välbefinnande och tillhörighet \nLeva fotboll! Supporterskap\, kreativitet och identitet\n\nFotbollen erbjuder spänning\, identitet och passion för många av stadens invånare. Inför matchen Sirius-Assyriska kommer frågor om supporterns roll för laget\, platsen och staden att diskuteras. Vad är vikten av delaktighet och engagemang? Hur kan supportrar och supportergrupper vara en del i såväl en växande fotbollsrörelse som en positiv kraft i samhället? \n\n\nSedan slutet av 1990-talet har publiksiffrorna i svensk fotbolls högsta serier nästan konstant ökat. I takt med publikökningarna har också supportrarnas engagemang ökat och frågan är om inte supportrarna är den viktigaste delen i fotbollens ökade popularitet i Sverige. Kring våra fotbollsföreningar flödar kreativitet och personligt engagemang som återspeglas i allt från läktararrangemang till klistermärken på staden och filmer på Youtube. Supportrarna formar sin egen\, lagets och stadens identitet genom att uttrycka sin kärlek till sitt lag. Vad som sker på fotbollens läktare blir då också en bild för vad som sker i en stad i ett område eller i den grupp som formar lagens identitet. \nInledningsanförande kommer hållas av konstvetaren Henrik Widmark – ”En levande supporterkultur svenska läktares och svensk fotbolls framtid”. Om engagemang\, kreativitet bland ultrasgrupper\, tifotillverkare och den vanlige åskådaren. Antropologen Jennifer Mack kommer att tala om Assyriska FF:s supportrars engagemang för sitt lag och sin stad. \nEfter inledningarna följer en paneldiskussion kring supporterkulturernas betydelse. De deltagande i panelen är Sirius sportchef Ola Andersson\, Svenska fotbollssupporterunionens ordförande Tony Ernst\, Västra sidans ordförande Lars Olsson och Zelge fans f.d ordförande Ninno Sharro. Diskussionen leds av Länsförsäkringars VD Ulrica Hedman. \nDet är fri entré men antalet deltagare är begränsat\, så kom i tid. Dörrarna öppnar 16:30 på GH Nation. Klockan 19:00 börjar matchen mellan Sirius-Assyriska i Superettan på Studenternas IP\, nationsbaren är öppen. Här hittar du evenemanget på Facebook\, meddela gärna där om du kommer. Välkommen! \nAktiviteten är en del av Uppsala universitets projekt “Den goda staden”. \n\n\n Dela evenemanget
URL:https://arkiv.gratisuppsala.se/event/den-goda-staden-leva-fotboll/
LOCATION:Gästrike-Hälsinge nation\,  Trädgårdsgatan 9\, uppsala\, 753 09\, Sverige
CATEGORIES:Föreläsning och Kurs,Samhälle,Sport & Motion
ATTACH;FMTTYPE=image/jpeg:https://arkiv.gratisuppsala.se/wp-content/uploads/2015/09/den-goda-staden-e1446716157504.jpg
GEO:59.8562777;17.6365712
X-APPLE-STRUCTURED-LOCATION;VALUE=URI;X-ADDRESS=Gästrike-Hälsinge nation  Trädgårdsgatan 9 uppsala 753 09 Sverige;X-APPLE-RADIUS=500;X-TITLE=Trädgårdsgatan 9:geo:17.6365712,59.8562777
END:VEVENT
END:VCALENDAR