BEGIN:VCALENDAR
VERSION:2.0
PRODID:-//Gratis Uppsala - ECPv5.2.1//NONSGML v1.0//EN
CALSCALE:GREGORIAN
METHOD:PUBLISH
X-WR-CALNAME:Gratis Uppsala
X-ORIGINAL-URL:https://arkiv.gratisuppsala.se
X-WR-CALDESC:Händelser för Gratis Uppsala
BEGIN:VTIMEZONE
TZID:Europe/Stockholm
BEGIN:DAYLIGHT
TZOFFSETFROM:+0100
TZOFFSETTO:+0200
TZNAME:CEST
DTSTART:20170326T010000
END:DAYLIGHT
BEGIN:STANDARD
TZOFFSETFROM:+0200
TZOFFSETTO:+0100
TZNAME:CET
DTSTART:20171029T010000
END:STANDARD
END:VTIMEZONE
BEGIN:VEVENT
DTSTART;TZID=Europe/Stockholm:20171031T190000
DTEND;TZID=Europe/Stockholm:20171031T210000
DTSTAMP:20260420T151107
CREATED:20171030T115515Z
LAST-MODIFIED:20171030T115515Z
UID:17705-1509476400-1509483600@arkiv.gratisuppsala.se
SUMMARY:Det är det mänskliga mötet som räknas
DESCRIPTION:Det är det mänskliga mötet som räknas\n\n\nI år firar Sigtunastiftelsen sitt hundraårsjubileum. Sigtunastiftelsen tillkom i ett Sverige i stark förändring\, i en tid av brinnande världskrig där behovet av en plats för dialog och samtal mellan oliktänkande var uppenbar. \nDen 31 oktober\, på dagen hundra år efter det att Sigtunastiftelsen inledde sin verksamhet\, visar Sigtunastiftelsen Maja Hagermans och Claes Gabrielssons film Sigtunastiftelsen – det är det mänskliga mötet som räknas.\n\nMaja Hagermans stora genombrott kom 1996 med Spåren av kungens män som belönades med Augustpriset för bästa fackbok. Hon fick även stor uppmärksamhet för boken Käraste Herman som belönades med Svenska Akademiens stora biografipris\, Axel Hirschs pris 2016. Tillsammans med sin livskamrat Claes Gabrielsson\, som varit verksam filmare på SVT i över trettio år\, har hon gjort flera historiska dokumentärer. \nSigtunastiftelsens direktor Alf Linderman introducerar filmen och leder samtalet efteråt \n\n Dela evenemanget
URL:https://arkiv.gratisuppsala.se/event/det-ar-det-manskliga-motet-som-raknas/
LOCATION:Sigtunastiftelsen\, Manfred Björkqvists allé 4\, Sigtuna
CATEGORIES:Föreläsning och Kurs,Kropp och Själ,Kunskap och Lärande,Teater och Bio
ATTACH;FMTTYPE=image/jpeg:https://arkiv.gratisuppsala.se/wp-content/uploads/2017/01/Sigtunastiftelsen_ext02-e1509364496275.jpg
GEO:59.6158714;17.7101321
X-APPLE-STRUCTURED-LOCATION;VALUE=URI;X-ADDRESS=Sigtunastiftelsen Manfred Björkqvists allé 4 Sigtuna;X-APPLE-RADIUS=500;X-TITLE=Manfred Björkqvists allé 4:geo:17.7101321,59.6158714
END:VEVENT
END:VCALENDAR