BEGIN:VCALENDAR
VERSION:2.0
PRODID:-//Gratis Uppsala - ECPv5.2.1//NONSGML v1.0//EN
CALSCALE:GREGORIAN
METHOD:PUBLISH
X-WR-CALNAME:Gratis Uppsala
X-ORIGINAL-URL:https://arkiv.gratisuppsala.se
X-WR-CALDESC:Händelser för Gratis Uppsala
BEGIN:VTIMEZONE
TZID:Europe/Stockholm
BEGIN:DAYLIGHT
TZOFFSETFROM:+0100
TZOFFSETTO:+0200
TZNAME:CEST
DTSTART:20170326T010000
END:DAYLIGHT
BEGIN:STANDARD
TZOFFSETFROM:+0200
TZOFFSETTO:+0100
TZNAME:CET
DTSTART:20171029T010000
END:STANDARD
END:VTIMEZONE
BEGIN:VEVENT
DTSTART;TZID=Europe/Stockholm:20170315T190000
DTEND;TZID=Europe/Stockholm:20170315T200000
DTSTAMP:20260420T082201
CREATED:20170125T123418Z
LAST-MODIFIED:20170313T102641Z
UID:10999-1489604400-1489608000@arkiv.gratisuppsala.se
SUMMARY:Det är väl ingen konst? Svenska barnboksförfattare berättar om sina våndor på Sigtunastiftelsen
DESCRIPTION:Det är väl ingen konst?\nSvenska barnboksförfattare berättar om sina våndor\n\n\nHur svårt kan det vara? Och hur bra måste det bli? Svenska Barnboksakademins ledamöter berättar om ett hårt\, oglamoröst och alldeles underbart jobb. Medverkande: Stina Wirsén\, Jujja Wieslander\, Per Gustavsson\, Mårten Sandén\, Åsa Lind\, Ylva Karlsson m fl. \nI samverkan med Svenska Barnboksakademin \n\n\n\n\n\n\n\n\n\n\n Dela evenemanget
URL:https://arkiv.gratisuppsala.se/event/det-ar-val-ingen-konst-svenska-barnboksforfattare-berattar-om-sina-vandor-pa-sigtunastiftelsen/
LOCATION:Sigtunastiftelsen\, Manfred Björkqvist allé 4\, Sigtuna\, 19322
CATEGORIES:Föreläsning och Kurs
END:VEVENT
END:VCALENDAR