BEGIN:VCALENDAR
VERSION:2.0
PRODID:-//Gratis Uppsala - ECPv5.2.1//NONSGML v1.0//EN
CALSCALE:GREGORIAN
METHOD:PUBLISH
X-WR-CALNAME:Gratis Uppsala
X-ORIGINAL-URL:https://arkiv.gratisuppsala.se
X-WR-CALDESC:Händelser för Gratis Uppsala
BEGIN:VTIMEZONE
TZID:Europe/Stockholm
BEGIN:DAYLIGHT
TZOFFSETFROM:+0100
TZOFFSETTO:+0200
TZNAME:CEST
DTSTART:20180325T010000
END:DAYLIGHT
BEGIN:STANDARD
TZOFFSETFROM:+0200
TZOFFSETTO:+0100
TZNAME:CET
DTSTART:20181028T010000
END:STANDARD
END:VTIMEZONE
BEGIN:VEVENT
DTSTART;TZID=Europe/Stockholm:20180924T170000
DTEND;TZID=Europe/Stockholm:20180924T180000
DTSTAMP:20260420T145651
CREATED:20180924T190431Z
LAST-MODIFIED:20180924T190431Z
UID:29497-1537808400-1537812000@arkiv.gratisuppsala.se
SUMMARY:Diskutek på Sävjabiblioteket hösten 2018
DESCRIPTION:Diskutek på Sävjabiblioteket hösten 2018\n\n\nDiskutek på Sävjabiblioteket – Korta föreläsningar följda av gemensamma diskussioner och fika. \n\n\n\nDatum: Måndag\, 24 september\, 29 oktober\, 26 november och 17 december 2018\nTid: 16.00\nPlats: Sävjabiblioteket\nPris: Gratis \nSamarrangemang med Sävja kulturcentrum \n\nHöstens diskutek 2018\n\n24 september \nLinda Larsson berättar om vardagen för den som lever med ett barn med ADHD och autism. \n\n29 oktober  \nEva Nordblom berättar om sitt arbete som volontär i Etiopien och att jobba mellan länder. \n26 november \nSofia Hedman – Abrahams barn – tre världsreligioner som är syskon. Hur ser rötterna ut? \n17 december \nMikael Vikman berättar om zombies i filmhistorien – en hjärndöd odyssé. \n  \n\n\n\nFör mer information\, besök gärna länkarna nedan (öppnas i nytt fönster/flik).\nSävjabiblioteket | Sävja Kulturcentrum \nBild: pixabay.com \n\n Dela evenemanget
URL:https://arkiv.gratisuppsala.se/event/diskutek-savjabiblioteket-ht18/2018-09-24/
LOCATION:Sävjabiblioteket\, Sverige
CATEGORIES:Föreläsning och Kurs,Litteratur och Poesi,Ungdom,Vuxen
ATTACH;FMTTYPE=image/jpeg:https://arkiv.gratisuppsala.se/wp-content/uploads/2018/09/marcos-luiz-photograph-292744-unsplash-e1537818865919.jpg
ORGANIZER;CN="S%C3%A4vjabiblioteket":MAILTO:savjabiblioteket@uppsala.se
END:VEVENT
END:VCALENDAR