BEGIN:VCALENDAR
VERSION:2.0
PRODID:-//Gratis Uppsala - ECPv5.2.1//NONSGML v1.0//EN
CALSCALE:GREGORIAN
METHOD:PUBLISH
X-WR-CALNAME:Gratis Uppsala
X-ORIGINAL-URL:https://arkiv.gratisuppsala.se
X-WR-CALDESC:Händelser för Gratis Uppsala
BEGIN:VTIMEZONE
TZID:Europe/Stockholm
BEGIN:DAYLIGHT
TZOFFSETFROM:+0100
TZOFFSETTO:+0200
TZNAME:CEST
DTSTART:20180325T010000
END:DAYLIGHT
BEGIN:STANDARD
TZOFFSETFROM:+0200
TZOFFSETTO:+0100
TZNAME:CET
DTSTART:20181028T010000
END:STANDARD
END:VTIMEZONE
BEGIN:VEVENT
DTSTART;TZID=Europe/Stockholm:20180226T160000
DTEND;TZID=Europe/Stockholm:20180226T160000
DTSTAMP:20260420T175136
CREATED:20180212T130529Z
LAST-MODIFIED:20180212T130928Z
UID:22544-1519660800-1519660800@arkiv.gratisuppsala.se
SUMMARY:Diskutek på Sävjabiblioteket
DESCRIPTION:Diskutek\n\n\nKort föreläsning om ett intressant ämne följt av en gemensam diskussion på Sävjabiblioteket. \n\n\n\nFri entré! \nTid och plats \nKlockan 16.00 \nSävjabiblioteket \nDatum och tema \n26 februari: Merja Haanpää Jeremar: Den goda vänskapen \n26 mars: Ulf Wennström: En familjehistoria från 1900-talets början \n23 april: Birgitta Monserrat: Flytt och flykt\, från demokrati till diktatur! \n28 maj: Linda Larsson: Vardagen för mig som lever med ett barn med ADHD och autism \nBild från pixabay.com \n\n Dela evenemanget
URL:https://arkiv.gratisuppsala.se/event/diskutek/2018-02-26/
LOCATION:Sävjabiblioteket\, Västgötaresan 133\, Uppsala\, 757 54\, Sverige
CATEGORIES:60+,Föreläsning och Kurs,Kunskap och Lärande,Litteratur och Poesi,Vuxen
ATTACH;FMTTYPE=image/png:https://arkiv.gratisuppsala.se/wp-content/uploads/2018/02/meeting-152506_640.png
ORGANIZER;CN="S%C3%A4vjabiblioteket":MAILTO:savjabiblioteket@uppsala.se
GEO:59.810724;17.702339
X-APPLE-STRUCTURED-LOCATION;VALUE=URI;X-ADDRESS=Sävjabiblioteket Västgötaresan 133 Uppsala 757 54 Sverige;X-APPLE-RADIUS=500;X-TITLE=Västgötaresan 133:geo:17.702339,59.810724
END:VEVENT
END:VCALENDAR