BEGIN:VCALENDAR
VERSION:2.0
PRODID:-//Gratis Uppsala - ECPv5.2.1//NONSGML v1.0//EN
CALSCALE:GREGORIAN
METHOD:PUBLISH
X-WR-CALNAME:Gratis Uppsala
X-ORIGINAL-URL:https://arkiv.gratisuppsala.se
X-WR-CALDESC:Händelser för Gratis Uppsala
BEGIN:VTIMEZONE
TZID:Europe/Stockholm
BEGIN:DAYLIGHT
TZOFFSETFROM:+0100
TZOFFSETTO:+0200
TZNAME:CEST
DTSTART:20160327T010000
END:DAYLIGHT
BEGIN:STANDARD
TZOFFSETFROM:+0200
TZOFFSETTO:+0100
TZNAME:CET
DTSTART:20161030T010000
END:STANDARD
END:VTIMEZONE
BEGIN:VEVENT
DTSTART;TZID=Europe/Stockholm:20160223T120000
DTEND;TZID=Europe/Stockholm:20160223T150000
DTSTAMP:20260422T164408
CREATED:20160222T084107Z
LAST-MODIFIED:20160222T084107Z
UID:6209-1456228800-1456239600@arkiv.gratisuppsala.se
SUMMARY:DJ kurs för tjejer
DESCRIPTION:Gratis DJ kurs för tjejer 13-20 år på Gränby Fritidsgård\, vid Gränbyskolan.\nEn chans att lära sig grunderna i dj på tre dagar under sportlovet\, 23-25 februari kl 12-15. \nKursen leds av Sofia Ellegren\, även kallad Sofia3ll3. Hon lärde sig DJ:a 2012 och har varit aktiv sedan dess. Förutom regelbundna gig på Uppsalas nationer har många spelningar hunnits med sedan starten\, bland annat förband till aktuella Miriam Bryant.\nSofia inriktar sig främst på elektronisk musik inom genren house\, men har även under senare år börjat spela hiphop och RnB. \nFöranmäl dig till kursen här. \nBild: sensus.se. \nDela evenemanget
URL:https://arkiv.gratisuppsala.se/event/dj-kurs-for-tjejer/2016-02-23/
LOCATION:Gränbyskolan\, Liljefors torg 1\, Uppsala\, 754 29\, Sverige
CATEGORIES:Föreläsning och Kurs,Sång och Musik,Sportlov
ATTACH;FMTTYPE=image/jpeg:https://arkiv.gratisuppsala.se/wp-content/uploads/2016/02/dj-kurs-700x395.jpg
ORGANIZER;CN="Sensus%20Studief%C3%B6rbund%20Uppsala":MAILTO:uppsala@sensus.se
GEO:59.8718525;17.6582693
X-APPLE-STRUCTURED-LOCATION;VALUE=URI;X-ADDRESS=Gränbyskolan Liljefors torg 1 Uppsala 754 29 Sverige;X-APPLE-RADIUS=500;X-TITLE=Liljefors torg 1:geo:17.6582693,59.8718525
END:VEVENT
END:VCALENDAR