BEGIN:VCALENDAR
VERSION:2.0
PRODID:-//Gratis Uppsala - ECPv5.2.1//NONSGML v1.0//EN
CALSCALE:GREGORIAN
METHOD:PUBLISH
X-WR-CALNAME:Gratis Uppsala
X-ORIGINAL-URL:https://arkiv.gratisuppsala.se
X-WR-CALDESC:Händelser för Gratis Uppsala
BEGIN:VTIMEZONE
TZID:Europe/Stockholm
BEGIN:DAYLIGHT
TZOFFSETFROM:+0100
TZOFFSETTO:+0200
TZNAME:CEST
DTSTART:20180325T010000
END:DAYLIGHT
BEGIN:STANDARD
TZOFFSETFROM:+0200
TZOFFSETTO:+0100
TZNAME:CET
DTSTART:20181028T010000
END:STANDARD
END:VTIMEZONE
BEGIN:VEVENT
DTSTART;TZID=Europe/Stockholm:20180525T170000
DTEND;TZID=Europe/Stockholm:20180525T200000
DTSTAMP:20260421T125357
CREATED:20180518T070530Z
LAST-MODIFIED:20180518T071002Z
UID:24614-1527267600-1527278400@arkiv.gratisuppsala.se
SUMMARY:Dj-workshop med Elcay
DESCRIPTION:Dj-workshop med Elcay\nÄr du under 25 år och vill lära dig dj:a? Missa då inte vårens roligaste workshop med dj Elcay på Ungdomens hus! Inga förkunskaper krävs\, allt gås igenom från grunden. Ta gärna med egen musik som du tycker om på en USB-sticka. Eventet kommer vara i en av replokalerna i Ungdomens hus\, med alla möts i kaféet på nedervåningen kl 16. Ledare är Louise Kvick. \nKostnadsfritt \nFredag  25 maj 16:00 –  19:00 \n\nFöranmälan: erika.sjoqvist@bilda.nu\nBilden från pixabay\n\n Dela evenemanget
URL:https://arkiv.gratisuppsala.se/event/dj-workshop-med-elcay/
LOCATION:Ungdomens Hus\, Svartbäcksgatan 32\, Uppsala\, 75332\, Sverige
CATEGORIES:Ungdom
ATTACH;FMTTYPE=image/jpeg:https://arkiv.gratisuppsala.se/wp-content/uploads/2018/05/dj-720589_1920.jpg
ORGANIZER;CN="Ungdomens%20Hus":MAILTO:info@ungdomenshus.net
END:VEVENT
END:VCALENDAR