BEGIN:VCALENDAR
VERSION:2.0
PRODID:-//Gratis Uppsala - ECPv5.2.1//NONSGML v1.0//EN
CALSCALE:GREGORIAN
METHOD:PUBLISH
X-WR-CALNAME:Gratis Uppsala
X-ORIGINAL-URL:https://arkiv.gratisuppsala.se
X-WR-CALDESC:Händelser för Gratis Uppsala
BEGIN:VTIMEZONE
TZID:Europe/Stockholm
BEGIN:DAYLIGHT
TZOFFSETFROM:+0100
TZOFFSETTO:+0200
TZNAME:CEST
DTSTART:20150329T010000
END:DAYLIGHT
BEGIN:STANDARD
TZOFFSETFROM:+0200
TZOFFSETTO:+0100
TZNAME:CET
DTSTART:20151025T010000
END:STANDARD
END:VTIMEZONE
BEGIN:VEVENT
DTSTART;TZID=Europe/Stockholm:20151008T190000
DTEND;TZID=Europe/Stockholm:20151001T180000
DTSTAMP:20260420T141148
CREATED:20151001T074939Z
LAST-MODIFIED:20151001T074939Z
UID:4023-1444330800-1443722400@arkiv.gratisuppsala.se
SUMMARY:Dyslexi och appar
DESCRIPTION:Torsdagen den 8 oktober kommer Sara Grunér till Stadsbiblioteket och berättar om dyslexi. Hon visar också aktuella läs- och skrivappar. \nSamarr. Logopedbyrån Dynamica. \nDela evenemanget
URL:https://arkiv.gratisuppsala.se/event/dyslexi-och-appar/
LOCATION:Stadsbiblioteket\, Svartbäcksgatan 17
CATEGORIES:Föreläsning och Kurs
GEO:59.8606206;17.6353278
X-APPLE-STRUCTURED-LOCATION;VALUE=URI;X-ADDRESS=Stadsbiblioteket Svartbäcksgatan 17;X-APPLE-RADIUS=500;X-TITLE=Svartbäcksgatan 17:geo:17.6353278,59.8606206
END:VEVENT
END:VCALENDAR