BEGIN:VCALENDAR
VERSION:2.0
PRODID:-//Gratis Uppsala - ECPv5.2.1//NONSGML v1.0//EN
CALSCALE:GREGORIAN
METHOD:PUBLISH
X-WR-CALNAME:Gratis Uppsala
X-ORIGINAL-URL:https://arkiv.gratisuppsala.se
X-WR-CALDESC:Händelser för Gratis Uppsala
BEGIN:VTIMEZONE
TZID:Europe/Stockholm
BEGIN:DAYLIGHT
TZOFFSETFROM:+0100
TZOFFSETTO:+0200
TZNAME:CEST
DTSTART:20160327T010000
END:DAYLIGHT
BEGIN:STANDARD
TZOFFSETFROM:+0200
TZOFFSETTO:+0100
TZNAME:CET
DTSTART:20161030T010000
END:STANDARD
END:VTIMEZONE
BEGIN:VEVENT
DTSTART;TZID=Europe/Stockholm:20160514T120000
DTEND;TZID=Europe/Stockholm:20160605T193000
DTSTAMP:20260419T230109
CREATED:20160111T113513Z
LAST-MODIFIED:20160511T083239Z
UID:5698-1463227200-1465155000@arkiv.gratisuppsala.se
SUMMARY:Elisabeth Berg\, burkplåt
DESCRIPTION:En utställning i material och ursprung för ‘naturen’. Skalbaggar\, fjärilar och blad – men alltihop gjorda av plåt från öl- och läskburkar. \nAtt kunna förvandla skräp till något vackert och i bästa fall tankeväckande. \nBilden: Pixabay.com \n  \nDela evenemanget
URL:https://arkiv.gratisuppsala.se/event/elisabeth-berg-burkplat/
LOCATION:Kaleido Konsthantverk\,  Roslagsgatan 1\, Uppsala\, Uppsala\, 753 27\, Sverige
CATEGORIES:Utställning
ATTACH;FMTTYPE=image/jpeg:https://arkiv.gratisuppsala.se/wp-content/uploads/2016/01/skalbaggar-e1452511096237.jpg
GEO:59.8603296;17.6456213
X-APPLE-STRUCTURED-LOCATION;VALUE=URI;X-ADDRESS=Kaleido Konsthantverk  Roslagsgatan 1 Uppsala Uppsala 753 27 Sverige;X-APPLE-RADIUS=500;X-TITLE=Roslagsgatan 1:geo:17.6456213,59.8603296
END:VEVENT
END:VCALENDAR