BEGIN:VCALENDAR
VERSION:2.0
PRODID:-//Gratis Uppsala - ECPv5.2.1//NONSGML v1.0//EN
CALSCALE:GREGORIAN
METHOD:PUBLISH
X-WR-CALNAME:Gratis Uppsala
X-ORIGINAL-URL:https://arkiv.gratisuppsala.se
X-WR-CALDESC:Händelser för Gratis Uppsala
BEGIN:VTIMEZONE
TZID:Europe/Stockholm
BEGIN:DAYLIGHT
TZOFFSETFROM:+0100
TZOFFSETTO:+0200
TZNAME:CEST
DTSTART:20160327T010000
END:DAYLIGHT
BEGIN:STANDARD
TZOFFSETFROM:+0200
TZOFFSETTO:+0100
TZNAME:CET
DTSTART:20161030T010000
END:STANDARD
END:VTIMEZONE
BEGIN:VEVENT
DTSTART;TZID=Europe/Stockholm:20160403T150000
DTEND;TZID=Europe/Stockholm:20160403T150000
DTSTAMP:20260419T185552
CREATED:20160127T101120Z
LAST-MODIFIED:20160127T105157Z
UID:5977-1459695600-1459695600@arkiv.gratisuppsala.se
SUMMARY:Emil Ernebro på Kulturoasen
DESCRIPTION:Emil Ernebro har spelat med artister som Sofia Karlsson\, Louise Hoffsten\, Tomas Ledin\, Sven-Bertil Taube\, delat scen med de stora gitarrhjältarna Tommy Emmanuel\, Jojje Wadenius\, Pete Huttlinger\, och detta innan han ens fyllt 27 år! I rätt händer kan en akustisk gitarr vara som en liten miniorkester. Emil Ernebro är en ung ”fingerstylist” som med melodi\, basstämmor och groove är ett bra exempel på det. För flertalet år sedan avslutade han studier på Musician´s Institute i Los Angeles och valdes då till ”Outstanding Player”. Emil har fått utmärkelser från bl a Uppsala Internationella Gitarrfestival och Albin Hagströms minnesfond och Guitarpeople´s Prize i kategorin ”Ung Lovande Artist”. \nFrivillig entré \nEmil på YouTube \nEmil facebook \nEmil hemsida \nDela evenemanget
URL:https://arkiv.gratisuppsala.se/event/emil-ernebro/
LOCATION:Kulturoasen\, Hågavägen 190\, Uppsala
CATEGORIES:Sång och Musik
ATTACH;FMTTYPE=image/jpeg:https://arkiv.gratisuppsala.se/wp-content/uploads/2016/01/Emil-Ernebro-IMG_2891-e1453889632409.jpg
GEO:59.8381745;17.5761698
X-APPLE-STRUCTURED-LOCATION;VALUE=URI;X-ADDRESS=Kulturoasen Hågavägen 190 Uppsala;X-APPLE-RADIUS=500;X-TITLE=Hågavägen 190:geo:17.5761698,59.8381745
END:VEVENT
END:VCALENDAR