BEGIN:VCALENDAR
VERSION:2.0
PRODID:-//Gratis Uppsala - ECPv5.2.1//NONSGML v1.0//EN
CALSCALE:GREGORIAN
METHOD:PUBLISH
X-WR-CALNAME:Gratis Uppsala
X-ORIGINAL-URL:https://arkiv.gratisuppsala.se
X-WR-CALDESC:Händelser för Gratis Uppsala
BEGIN:VTIMEZONE
TZID:Europe/Stockholm
BEGIN:DAYLIGHT
TZOFFSETFROM:+0100
TZOFFSETTO:+0200
TZNAME:CEST
DTSTART:20150329T010000
END:DAYLIGHT
BEGIN:STANDARD
TZOFFSETFROM:+0200
TZOFFSETTO:+0100
TZNAME:CET
DTSTART:20151025T010000
END:STANDARD
END:VTIMEZONE
BEGIN:VEVENT
DTSTART;TZID=Europe/Stockholm:20151002T150000
DTEND;TZID=Europe/Stockholm:20150929T180000
DTSTAMP:20260422T000115
CREATED:20150929T071425Z
LAST-MODIFIED:20150929T071425Z
UID:3980-1443798000-1443549600@arkiv.gratisuppsala.se
SUMMARY:English tour of the exhibition OUR UPPSALA / Allmän visning på engelska av utställningen VÅRT UPPSALA
DESCRIPTION:Place: at the exhibition/ samling i den aktuella utställningen \nFree admission \nDela evenemanget
URL:https://arkiv.gratisuppsala.se/event/english-tour-of-the-exhibition-our-uppsala-allman-visning-pa-engelska-av-utstallningen-vart-uppsala/
LOCATION:Upplandsmuseet\, Fyristorg 2\, Uppsala\, Sverige
CATEGORIES:Utställning
GEO:59.85895;17.634901
X-APPLE-STRUCTURED-LOCATION;VALUE=URI;X-ADDRESS=Upplandsmuseet Fyristorg 2 Uppsala Sverige;X-APPLE-RADIUS=500;X-TITLE=Fyristorg 2:geo:17.634901,59.85895
END:VEVENT
END:VCALENDAR