BEGIN:VCALENDAR
VERSION:2.0
PRODID:-//Gratis Uppsala - ECPv5.2.1//NONSGML v1.0//EN
CALSCALE:GREGORIAN
METHOD:PUBLISH
X-WR-CALNAME:Gratis Uppsala
X-ORIGINAL-URL:https://arkiv.gratisuppsala.se
X-WR-CALDESC:Händelser för Gratis Uppsala
BEGIN:VTIMEZONE
TZID:Europe/Stockholm
BEGIN:DAYLIGHT
TZOFFSETFROM:+0100
TZOFFSETTO:+0200
TZNAME:CEST
DTSTART:20160327T010000
END:DAYLIGHT
BEGIN:STANDARD
TZOFFSETFROM:+0200
TZOFFSETTO:+0100
TZNAME:CET
DTSTART:20161030T010000
END:STANDARD
END:VTIMEZONE
BEGIN:VEVENT
DTSTART;TZID=Europe/Stockholm:20160924T130000
DTEND;TZID=Europe/Stockholm:20160924T160000
DTSTAMP:20260420T180816
CREATED:20160928T072840Z
LAST-MODIFIED:20161031T130237Z
UID:8475-1474722000-1474732800@arkiv.gratisuppsala.se
SUMMARY:Enköpings konsthall - utställningsprogram
DESCRIPTION:Öppettider: Ons kl 17-19 och lör-sön kl 12-15. \nUtställningar: \nAnna Ekholm 24 sept – 16 okt. \nBirgitta Andersson & Yvonne Jeppsson 22 okt – 13 nov. \nBo Trankell 19 nov – 11 dec. \nI kvarteret runt konsthallen finns inom en radie av 300 m: \nVårfrukyrkan med en vacker kyrkogård. \nEnköpings museum. \nGenuint mysigt café/matställe och Italienskt trevligt matställe. \n  \nDela evenemanget
URL:https://arkiv.gratisuppsala.se/event/enkopings-konsthall-utstallningsprogram/2016-09-24/
LOCATION:Enköpings konsthall\, Tullgatan 18\, Enköping
CATEGORIES:60+,Föreläsning och Kurs,Konst, Fotografi och Design,Kropp och Själ,Utflykt / Picknick,Utställning
GEO:59.637814;17.0801523
X-APPLE-STRUCTURED-LOCATION;VALUE=URI;X-ADDRESS=Enköpings konsthall Tullgatan 18 Enköping;X-APPLE-RADIUS=500;X-TITLE=Tullgatan 18:geo:17.0801523,59.637814
END:VEVENT
END:VCALENDAR