BEGIN:VCALENDAR
VERSION:2.0
PRODID:-//Gratis Uppsala - ECPv5.2.1//NONSGML v1.0//EN
CALSCALE:GREGORIAN
METHOD:PUBLISH
X-WR-CALNAME:Gratis Uppsala
X-ORIGINAL-URL:https://arkiv.gratisuppsala.se
X-WR-CALDESC:Händelser för Gratis Uppsala
BEGIN:VTIMEZONE
TZID:Europe/Stockholm
BEGIN:DAYLIGHT
TZOFFSETFROM:+0100
TZOFFSETTO:+0200
TZNAME:CEST
DTSTART:20170326T010000
END:DAYLIGHT
BEGIN:STANDARD
TZOFFSETFROM:+0200
TZOFFSETTO:+0100
TZNAME:CET
DTSTART:20171029T010000
END:STANDARD
END:VTIMEZONE
BEGIN:VEVENT
DTSTART;TZID=Europe/Stockholm:20170118T180000
DTEND;TZID=Europe/Stockholm:20170118T200000
DTSTAMP:20260421T113007
CREATED:20161220T104603Z
LAST-MODIFIED:20170113T095817Z
UID:9943-1484762400-1484769600@arkiv.gratisuppsala.se
SUMMARY:Enmansteater rörande kvinnlig alkoholism
DESCRIPTION:Enmansteater av Bergslagsteatern rörande kvinnlig alkoholism. \nMonolog och diskussion. \nI samband med teatern kommer beroendeteamet samt familjeteamet att presentera sina verksamheter. \nNär: Onsdag 18 januari kl. 18.00-20.00 \nVar: Folkets hus\, Heby \nArrangör : Heby kommun\, IOGT-NTO\, Frivilliga samhällsarbetare och NBV \nFri entre\, ingen föranmälan. \nDela evenemanget
URL:https://arkiv.gratisuppsala.se/event/enmansteater-rorande-kvinnlig-alkoholism/
LOCATION:Folkets hus Heby\, Centralgatan 1A\, Heby\,  744 32\, Sverige
CATEGORIES:Föreläsning och Kurs,Kropp och Själ,Teknik och Vetenskap
ATTACH;FMTTYPE=image/jpeg:https://arkiv.gratisuppsala.se/wp-content/uploads/2016/11/Heby.jpg
ORGANIZER;CN="Heby%20Kommun":MAILTO:information@heby.se
GEO:59.94073;16.857953
X-APPLE-STRUCTURED-LOCATION;VALUE=URI;X-ADDRESS=Folkets hus Heby Centralgatan 1A Heby  744 32 Sverige;X-APPLE-RADIUS=500;X-TITLE=Centralgatan 1A:geo:16.857953,59.94073
END:VEVENT
END:VCALENDAR