BEGIN:VCALENDAR
VERSION:2.0
PRODID:-//Gratis Uppsala - ECPv5.2.1//NONSGML v1.0//EN
CALSCALE:GREGORIAN
METHOD:PUBLISH
X-WR-CALNAME:Gratis Uppsala
X-ORIGINAL-URL:https://arkiv.gratisuppsala.se
X-WR-CALDESC:Händelser för Gratis Uppsala
BEGIN:VTIMEZONE
TZID:Europe/Stockholm
BEGIN:DAYLIGHT
TZOFFSETFROM:+0100
TZOFFSETTO:+0200
TZNAME:CEST
DTSTART:20150329T010000
END:DAYLIGHT
BEGIN:STANDARD
TZOFFSETFROM:+0200
TZOFFSETTO:+0100
TZNAME:CET
DTSTART:20151025T010000
END:STANDARD
END:VTIMEZONE
BEGIN:VEVENT
DTSTART;TZID=Europe/Stockholm:20151213T180000
DTEND;TZID=Europe/Stockholm:20151213T190000
DTSTAMP:20260420T024618
CREATED:20151210T101457Z
LAST-MODIFIED:20151210T101457Z
UID:5199-1450029600-1450033200@arkiv.gratisuppsala.se
SUMMARY:Ensam - Samtalskväll om behovet att vara för sig själv på Sigtunastiftelsen
DESCRIPTION:Ensam\nSamtalskväll om behovet att vara för sig själv\n\n\nEn samtalkväll om behovet av att vara för sig själv. Sigtunastiftelsens kaplan Lars Björklund inleder\, därefter samtal runt borden. Vi samlas i Sällskapsvåningen där det också bjuds på enklare förtäring. \n  \n  \n  \n  \n\n\nInformation\n\nDatum:\n13 december\nTid:\n18:00 – 19:00\nPris:\nGratis\n\n\n\n\n Dela evenemanget
URL:https://arkiv.gratisuppsala.se/event/ensam-samtalskvall-om-behovet-att-vara-for-sig-sjalv-pa-sigtunastiftelsen/
LOCATION:Sigtunastiftelsen\, Manfred Björkquists allé 4\, Sigtuna\, Sverige
CATEGORIES:Kropp och Själ
ORGANIZER;CN="Sigtunastiftelsen":MAILTO:info@sigtunastiftelsen.se
GEO:59.6158714;17.7101321
X-APPLE-STRUCTURED-LOCATION;VALUE=URI;X-ADDRESS=Sigtunastiftelsen Manfred Björkquists allé 4 Sigtuna Sverige;X-APPLE-RADIUS=500;X-TITLE=Manfred Björkquists allé 4:geo:17.7101321,59.6158714
END:VEVENT
END:VCALENDAR