BEGIN:VCALENDAR
VERSION:2.0
PRODID:-//Gratis Uppsala - ECPv5.2.1//NONSGML v1.0//EN
CALSCALE:GREGORIAN
METHOD:PUBLISH
X-WR-CALNAME:Gratis Uppsala
X-ORIGINAL-URL:https://arkiv.gratisuppsala.se
X-WR-CALDESC:Händelser för Gratis Uppsala
BEGIN:VTIMEZONE
TZID:Europe/Stockholm
BEGIN:DAYLIGHT
TZOFFSETFROM:+0100
TZOFFSETTO:+0200
TZNAME:CEST
DTSTART:20170326T010000
END:DAYLIGHT
BEGIN:STANDARD
TZOFFSETFROM:+0200
TZOFFSETTO:+0100
TZNAME:CET
DTSTART:20171029T010000
END:STANDARD
END:VTIMEZONE
BEGIN:VEVENT
DTSTART;TZID=Europe/Stockholm:20170315T140000
DTEND;TZID=Europe/Stockholm:20170315T170000
DTSTAMP:20260420T050703
CREATED:20170313T132919Z
LAST-MODIFIED:20170313T140620Z
UID:12517-1489586400-1489597200@arkiv.gratisuppsala.se
SUMMARY:EPR Uppsala Län 2017
DESCRIPTION:ENTREPRENÖRSKAP PÅ RIKTIGT 2017\, \n\nUppsala läns mässa med unga företagare\, den 15 mars i Fyrishovs multihallar. \nÖver 200 UF-företag från hela Uppsala Län ställer ut sina produkter inom allt från mode och design\, heminredning och nya lösningar på gamla problem. \nUpplev kraften och kreativiteten hos Uppsalas mest företagsamma unga och upptäck årets mest nytänkande idéer före alla andra. \nIngen föranmälan\, FRI ENTRÉ. \nAlla är välkomna!!. \n\n Dela evenemanget
URL:https://arkiv.gratisuppsala.se/event/epr-uppsala-lan-2017/
LOCATION:Fyrishov\, Idrottsgatan 2\, Uppsala\, 753 33
CATEGORIES:Föreläsning och Kurs,Kunskap och Lärande
ATTACH;FMTTYPE=image/jpeg:https://arkiv.gratisuppsala.se/wp-content/uploads/2017/03/EPR.jpg
GEO:59.8705229;17.6233124
X-APPLE-STRUCTURED-LOCATION;VALUE=URI;X-ADDRESS=Fyrishov Idrottsgatan 2 Uppsala 753 33;X-APPLE-RADIUS=500;X-TITLE=Idrottsgatan 2:geo:17.6233124,59.8705229
END:VEVENT
END:VCALENDAR