BEGIN:VCALENDAR
VERSION:2.0
PRODID:-//Gratis Uppsala - ECPv5.2.1//NONSGML v1.0//EN
CALSCALE:GREGORIAN
METHOD:PUBLISH
X-WR-CALNAME:Gratis Uppsala
X-ORIGINAL-URL:https://arkiv.gratisuppsala.se
X-WR-CALDESC:Händelser för Gratis Uppsala
BEGIN:VTIMEZONE
TZID:Europe/Stockholm
BEGIN:DAYLIGHT
TZOFFSETFROM:+0100
TZOFFSETTO:+0200
TZNAME:CEST
DTSTART:20160327T010000
END:DAYLIGHT
BEGIN:STANDARD
TZOFFSETFROM:+0200
TZOFFSETTO:+0100
TZNAME:CET
DTSTART:20161030T010000
END:STANDARD
END:VTIMEZONE
BEGIN:VEVENT
DTSTART;TZID=Europe/Stockholm:20161217T180000
DTEND;TZID=Europe/Stockholm:20161216T170000
DTSTAMP:20260419T162112
CREATED:20161216T135527Z
LAST-MODIFIED:20161216T135527Z
UID:9891-1481997600-1481907600@arkiv.gratisuppsala.se
SUMMARY:Eriksbergskörens julkonsert
DESCRIPTION:Eriksbergskyrkan \nDela evenemanget
URL:https://arkiv.gratisuppsala.se/event/eriksbergskorens-julkonsert/
LOCATION:Eriksbergskyrkan\, Eriksbergsvägen 2\, Uppsala\, 752 39\, Sverige
CATEGORIES:Konsert,Sång och Musik
GEO:59.8460738;17.6165521
X-APPLE-STRUCTURED-LOCATION;VALUE=URI;X-ADDRESS=Eriksbergskyrkan Eriksbergsvägen 2 Uppsala 752 39 Sverige;X-APPLE-RADIUS=500;X-TITLE=Eriksbergsvägen 2:geo:17.6165521,59.8460738
END:VEVENT
END:VCALENDAR