BEGIN:VCALENDAR
VERSION:2.0
PRODID:-//Gratis Uppsala - ECPv5.2.1//NONSGML v1.0//EN
CALSCALE:GREGORIAN
METHOD:PUBLISH
X-WR-CALNAME:Gratis Uppsala
X-ORIGINAL-URL:https://arkiv.gratisuppsala.se
X-WR-CALDESC:Händelser för Gratis Uppsala
BEGIN:VTIMEZONE
TZID:Europe/Stockholm
BEGIN:DAYLIGHT
TZOFFSETFROM:+0100
TZOFFSETTO:+0200
TZNAME:CEST
DTSTART:20150329T010000
END:DAYLIGHT
BEGIN:STANDARD
TZOFFSETFROM:+0200
TZOFFSETTO:+0100
TZNAME:CET
DTSTART:20151025T010000
END:STANDARD
END:VTIMEZONE
BEGIN:VEVENT
DTSTART;TZID=Europe/Stockholm:20151214T170000
DTEND;TZID=Europe/Stockholm:20151214T180000
DTSTAMP:20260420T011427
CREATED:20151210T103723Z
LAST-MODIFIED:20151210T103723Z
UID:5203-1450112400-1450116000@arkiv.gratisuppsala.se
SUMMARY:Få din vilja igenom! Med Fredrik Norén från Barnombudsmannen i Uppsala
DESCRIPTION:Lite prat och mycket praktik. \nSnabbkurs i konsten att få sin röst hörd. Lär dig vilka rättigheter du har och hur du kan använda dessa för att påverka makthavare.Dina bäst använda 60 minuter i år. \nDela evenemanget
URL:https://arkiv.gratisuppsala.se/event/fa-din-vilja-igenom/
LOCATION:Genomfarten\, Drottninggatan 13 \, Uppsala\, 75311\, Sverige
CATEGORIES:Föreläsning och Kurs
ATTACH;FMTTYPE=image/jpeg:https://arkiv.gratisuppsala.se/wp-content/uploads/2015/12/barnombudsmannen.jpg
GEO:59.8562875;17.63361
X-APPLE-STRUCTURED-LOCATION;VALUE=URI;X-ADDRESS=Genomfarten Drottninggatan 13  Uppsala 75311 Sverige;X-APPLE-RADIUS=500;X-TITLE=Drottninggatan 13:geo:17.63361,59.8562875
END:VEVENT
END:VCALENDAR