BEGIN:VCALENDAR
VERSION:2.0
PRODID:-//Gratis Uppsala - ECPv5.2.1//NONSGML v1.0//EN
CALSCALE:GREGORIAN
METHOD:PUBLISH
X-WR-CALNAME:Gratis Uppsala
X-ORIGINAL-URL:https://arkiv.gratisuppsala.se
X-WR-CALDESC:Händelser för Gratis Uppsala
BEGIN:VTIMEZONE
TZID:Europe/Stockholm
BEGIN:DAYLIGHT
TZOFFSETFROM:+0100
TZOFFSETTO:+0200
TZNAME:CEST
DTSTART:20170326T010000
END:DAYLIGHT
BEGIN:STANDARD
TZOFFSETFROM:+0200
TZOFFSETTO:+0100
TZNAME:CET
DTSTART:20171029T010000
END:STANDARD
END:VTIMEZONE
BEGIN:VEVENT
DTSTART;TZID=Europe/Stockholm:20170924T120000
DTEND;TZID=Europe/Stockholm:20170924T160000
DTSTAMP:20260423T194301
CREATED:20170921T092407Z
LAST-MODIFIED:20170921T092407Z
UID:18528-1506254400-1506268800@arkiv.gratisuppsala.se
SUMMARY:Familjedag med kalas
DESCRIPTION: Heldag med Friluftsfrämjandet\n\n\n\nÅk till Fjällnora och fira Skogsmulle som fyller 60 år! Friluftsfrämjandet har familjedag i Fjällnora med gympaspår\, baka pinnbröd och andra aktiviteter samt prova på Strövarna. Paketöppning med Skogsmulle från klockan 12:00. \nElden är igång så ta med något att grilla. \nAktiviteten pågår 11:00-15:00. Alla är välkomna! \nFör mer information: Friluftsfrämjandet Almunge-Länna lokalavdelning \n\nBild från commons.wikimedia.org\n\n\n\n\n Dela evenemanget
URL:https://arkiv.gratisuppsala.se/event/familjedag-med-kalas/
LOCATION:Fjällnora friluftsområde\, Fjällnora 35\, Uppsala\, 75597\, Sverige
CATEGORIES:Vuxen
ATTACH;FMTTYPE=image/jpeg:https://arkiv.gratisuppsala.se/wp-content/uploads/2017/09/Snobrød_twist_bread_stick_bread_campfire_bread_pinnbröd_pinnebrød_Stockbrot_2013-07-01_21-15-e1505989423236.jpg
GEO:59.8330813;17.9125511
X-APPLE-STRUCTURED-LOCATION;VALUE=URI;X-ADDRESS=Fjällnora friluftsområde Fjällnora 35 Uppsala 75597 Sverige;X-APPLE-RADIUS=500;X-TITLE=Fjällnora 35:geo:17.9125511,59.8330813
END:VEVENT
END:VCALENDAR